BEGIN:VCALENDAR
VERSION:2.0
PRODID:-//Miasto i Gmina Buk - ECPv6.15.20//NONSGML v1.0//EN
CALSCALE:GREGORIAN
METHOD:PUBLISH
X-ORIGINAL-URL:https://buk.gmina.pl
X-WR-CALDESC:Wydarzenia dla Miasto i Gmina Buk
REFRESH-INTERVAL;VALUE=DURATION:PT1H
X-Robots-Tag:noindex
X-PUBLISHED-TTL:PT1H
BEGIN:VTIMEZONE
TZID:Europe/Warsaw
BEGIN:DAYLIGHT
TZOFFSETFROM:+0100
TZOFFSETTO:+0200
TZNAME:CEST
DTSTART:20230326T010000
END:DAYLIGHT
BEGIN:STANDARD
TZOFFSETFROM:+0200
TZOFFSETTO:+0100
TZNAME:CET
DTSTART:20231029T010000
END:STANDARD
BEGIN:DAYLIGHT
TZOFFSETFROM:+0100
TZOFFSETTO:+0200
TZNAME:CEST
DTSTART:20240331T010000
END:DAYLIGHT
BEGIN:STANDARD
TZOFFSETFROM:+0200
TZOFFSETTO:+0100
TZNAME:CET
DTSTART:20241027T010000
END:STANDARD
BEGIN:DAYLIGHT
TZOFFSETFROM:+0100
TZOFFSETTO:+0200
TZNAME:CEST
DTSTART:20250330T010000
END:DAYLIGHT
BEGIN:STANDARD
TZOFFSETFROM:+0200
TZOFFSETTO:+0100
TZNAME:CET
DTSTART:20251026T010000
END:STANDARD
END:VTIMEZONE
BEGIN:VEVENT
DTSTART;TZID=Europe/Warsaw:20240723T183000
DTEND;TZID=Europe/Warsaw:20240723T203000
DTSTAMP:20260420T161415
CREATED:20240708T133649Z
LAST-MODIFIED:20240708T133649Z
UID:18745-1721759400-1721766600@buk.gmina.pl
SUMMARY:Zebranie Koła Gospodyń Wiejskich i Koła Seniora
DESCRIPTION:Sołtys wsi Niepruszewo zaprasza członków Koła Gospodyń Wiejskich oraz członków Koła Seniora na zebranie organizacyjne\, które odbędzie się 23 lipca 2024r. o 18:30 w Sali Organizacyjnej – Wiejskiego Domu Kultury.
URL:https://buk.gmina.pl/wydarzenie/zebranie-kola-gospodyn-wiejskich-i-kola-seniora/
ATTACH;FMTTYPE=image/jpeg:https://buk.gmina.pl/wp-content/uploads/2024/07/450119122_816305980596825_7928254517426453612_n.jpg
END:VEVENT
END:VCALENDAR