BEGIN:VCALENDAR
VERSION:2.0
PRODID:-//Miasto i Gmina Buk - ECPv6.15.20//NONSGML v1.0//EN
CALSCALE:GREGORIAN
METHOD:PUBLISH
X-WR-CALNAME:Miasto i Gmina Buk
X-ORIGINAL-URL:https://buk.gmina.pl
X-WR-CALDESC:Wydarzenia dla Miasto i Gmina Buk
REFRESH-INTERVAL;VALUE=DURATION:PT1H
X-Robots-Tag:noindex
X-PUBLISHED-TTL:PT1H
BEGIN:VTIMEZONE
TZID:Europe/Warsaw
BEGIN:DAYLIGHT
TZOFFSETFROM:+0100
TZOFFSETTO:+0200
TZNAME:CEST
DTSTART:20230326T010000
END:DAYLIGHT
BEGIN:STANDARD
TZOFFSETFROM:+0200
TZOFFSETTO:+0100
TZNAME:CET
DTSTART:20231029T010000
END:STANDARD
BEGIN:DAYLIGHT
TZOFFSETFROM:+0100
TZOFFSETTO:+0200
TZNAME:CEST
DTSTART:20240331T010000
END:DAYLIGHT
BEGIN:STANDARD
TZOFFSETFROM:+0200
TZOFFSETTO:+0100
TZNAME:CET
DTSTART:20241027T010000
END:STANDARD
BEGIN:DAYLIGHT
TZOFFSETFROM:+0100
TZOFFSETTO:+0200
TZNAME:CEST
DTSTART:20250330T010000
END:DAYLIGHT
BEGIN:STANDARD
TZOFFSETFROM:+0200
TZOFFSETTO:+0100
TZNAME:CET
DTSTART:20251026T010000
END:STANDARD
END:VTIMEZONE
BEGIN:VEVENT
DTSTART;TZID=Europe/Warsaw:20241222T160000
DTEND;TZID=Europe/Warsaw:20241222T180000
DTSTAMP:20260423T020239
CREATED:20241120T113715Z
LAST-MODIFIED:20241120T113832Z
UID:20544-1734883200-1734890400@buk.gmina.pl
SUMMARY:Kolędowanie w Buku - koncert Poznańskiego Chóru Chłopięcego
DESCRIPTION:Miasto i Gmina Buk oraz Miejsko-Gminny Ośrodek Kultury zaprasza do wspólnego kolędowania! \n22 grudnia godz. 16:00 \nSanktuarium Matki Bożej Bukowskiej Literackiej w Buku \nw programie: \nkoncert Poznańskiego Chóru Chłopięcego\, składanie życzeń i dzielenie się opłatkiem\, przekazanie Betlejemskiego Światła Pokoju \nWydarzenie jest współfinansowane przez Samorząd Województwa Wielkopolskiego
URL:https://buk.gmina.pl/wydarzenie/koledowanie-w-buku-koncert-poznanskiego-choru-chlopiecego/
ATTACH;FMTTYPE=image/png:https://buk.gmina.pl/wp-content/uploads/2024/11/koledowanie-png.png
END:VEVENT
END:VCALENDAR