BEGIN:VCALENDAR
VERSION:2.0
PRODID:-//Miasto i Gmina Buk - ECPv6.15.20//NONSGML v1.0//EN
CALSCALE:GREGORIAN
METHOD:PUBLISH
X-ORIGINAL-URL:https://buk.gmina.pl
X-WR-CALDESC:Wydarzenia dla Miasto i Gmina Buk
REFRESH-INTERVAL;VALUE=DURATION:PT1H
X-Robots-Tag:noindex
X-PUBLISHED-TTL:PT1H
BEGIN:VTIMEZONE
TZID:Europe/Warsaw
BEGIN:DAYLIGHT
TZOFFSETFROM:+0100
TZOFFSETTO:+0200
TZNAME:CEST
DTSTART:20240331T010000
END:DAYLIGHT
BEGIN:STANDARD
TZOFFSETFROM:+0200
TZOFFSETTO:+0100
TZNAME:CET
DTSTART:20241027T010000
END:STANDARD
BEGIN:DAYLIGHT
TZOFFSETFROM:+0100
TZOFFSETTO:+0200
TZNAME:CEST
DTSTART:20250330T010000
END:DAYLIGHT
BEGIN:STANDARD
TZOFFSETFROM:+0200
TZOFFSETTO:+0100
TZNAME:CET
DTSTART:20251026T010000
END:STANDARD
BEGIN:DAYLIGHT
TZOFFSETFROM:+0100
TZOFFSETTO:+0200
TZNAME:CEST
DTSTART:20260329T010000
END:DAYLIGHT
BEGIN:STANDARD
TZOFFSETFROM:+0200
TZOFFSETTO:+0100
TZNAME:CET
DTSTART:20261025T010000
END:STANDARD
END:VTIMEZONE
BEGIN:VEVENT
DTSTART;TZID=Europe/Warsaw:20250929T114500
DTEND;TZID=Europe/Warsaw:20251003T123000
DTSTAMP:20260421T104806
CREATED:20250919T120007Z
LAST-MODIFIED:20250919T120007Z
UID:24661-1759146300-1759494600@buk.gmina.pl
SUMMARY:Tydzień Seniora 29 września – 3 października 2025
DESCRIPTION:Już tradycyjnie\, jak co roku\, zapraszamy na Tydzień Seniora\, który odbędzie się w naszej gminie od 29 września do 3 października br. To najbardziej optymistyczny tydzień w roku\, a program zapowiada się niezwykle ciekawie. \nNa wszystkie wydarzenia wstęp jest wolny\, ale na kilka z nich obowiązują zapisy. Można się zapisywać w dni robocze\, od 22 września\, w godz. 10:00 do 14:00\, w Sali Miejskiej (dawna synagoga) w Buku i pod numerem telefonu: 663 425 453. Zapraszamy serdecznie! I pamiętajcie: senior to siła! \nOpis wydarzeń \nKoncert Marty Grabowskiej z repertuarem przebojów Anny German – recital poznańskiej artystki o niezwykłym głosie\, która wykona piosenki Białego Anioła Polskiej Piosenki. Posłuchamy „Człowieczy los”\, „Tańczące Eurydyki” i wiele innych. \nAromaterapia – warsztaty z naukowcem i praktykiem Alicją Bałut\, którą fascynują olejki eteryczne i ich spektrum oddziaływania. Dowiemy się jak można w prosty i bezpieczny sposób stosować olejki eteryczne w codziennym życiu. \nWycieczka do Szwajcarii Chodzieskiej – w Nadleśnictwie Podanin będzie można zobaczyć zjawiskowe Arboretum oraz przyrodniczy Labirynt Wiedzy. Ponadto wizyta w Magazynie Wystawowym Polskiej Motoryzacji w Kąkolewie i Dziale Muzealnym Miejskiej Biblioteki Publicznej w Chodzieży\, spotkanie ze specjalistką od miodu i ziół. \nPogadanka o serowarstwie i wytwarzaniu sera – spotkanie z lokalną rolniczką Agatą Króliczak – SERce Jadzi z Dobieżyna\, która stworzyła rodzinny sklepik przy gospodarstwie. I obowiązkowo degustacja serów. \n Rozrywki w kasynie na bis – na życzenie seniorów powtórka hitu z ubiegłego roku –mobilne kasyno ze stołami do gier: amerykańska ruletka\, black jack\, poker Texas Hold’em\, a dodatkowo specjalna scenografia… jak w Las Vegas! \nStrzelanie nie tylko z łuku – tego jeszcze na Tygodniu Seniora nie było. Nauka strzelania z łuku\, które jest doskonałym treningiem ciała i umysłu. A po strzelaniu z łuku\, strzelanie na strzelnicy. \nSpotkanie z Anną Marią Wesołowską – sędzią\, znaną z wieloletniej pracy w wymiarze sprawiedliwości\, ekspertkę od przestępczości zorganizowanej\, znaną z serialu paradokumentalnego „Sędzia Anna Maria Wesołowska” \nSeans „Teściowie 3” – trzecia część komediowego hitu „Teściowie”\, ponowne spotkanie z niesamowitą rodzinką. Atmosfera i emocje na chrzcinach wymykają się spod kontroli\, a dawne konflikty prowadzą do nieoczekiwanych konsekwencji.
URL:https://buk.gmina.pl/wydarzenie/tydzien-seniora-29-wrzesnia-3-pazdziernika-2025/
ATTACH;FMTTYPE=image/jpeg:https://buk.gmina.pl/wp-content/uploads/2025/09/Tydzien-Seniora.jpg
END:VEVENT
BEGIN:VEVENT
DTSTART;TZID=Europe/Warsaw:20251003T160000
DTEND;TZID=Europe/Warsaw:20251003T170000
DTSTAMP:20260421T104806
CREATED:20251002T073731Z
LAST-MODIFIED:20251002T073731Z
UID:24748-1759507200-1759510800@buk.gmina.pl
SUMMARY:Wieczór z bajkami w Niepruszewie
DESCRIPTION:Filia Biblioteczna w Niepruszewie zaprasza w dniu 3 października br. o godz. 16:00 na Wieczór z Bajkami. \nSzczegóły na plakacie.
URL:https://buk.gmina.pl/wydarzenie/wieczor-z-bajkami-w-niepruszewie-3/
ATTACH;FMTTYPE=image/jpeg:https://buk.gmina.pl/wp-content/uploads/2025/10/552969388_122106920817003272_7208582243094345177_n.jpg
END:VEVENT
BEGIN:VEVENT
DTSTART;TZID=Europe/Warsaw:20251004T110000
DTEND;TZID=Europe/Warsaw:20251004T130000
DTSTAMP:20260421T104806
CREATED:20251002T073535Z
LAST-MODIFIED:20251002T073535Z
UID:24745-1759575600-1759582800@buk.gmina.pl
SUMMARY:Zadbaj o swoje bezpieczeństwo finansowe
DESCRIPTION:Stowarzyszenie Bukowskie Mamy zaprasza w dniu 4 października br. o godz. 11:00 do Sali Miejskiej na spotkanie z Moniką Madej. \nZapisy przez Messenger Stowarzyszenia. \nSzczegóły na plakacie.
URL:https://buk.gmina.pl/wydarzenie/zadbaj-o-swoje-bezpieczenstwo-finansowe/
ATTACH;FMTTYPE=image/jpeg:https://buk.gmina.pl/wp-content/uploads/2025/10/258b3138-f299-4122-9839-77be577fd1d3.jpeg
END:VEVENT
BEGIN:VEVENT
DTSTART;TZID=Europe/Warsaw:20251005T110000
DTEND;TZID=Europe/Warsaw:20251005T140000
DTSTAMP:20260421T104806
CREATED:20250925T055515Z
LAST-MODIFIED:20250925T055515Z
UID:24687-1759662000-1759672800@buk.gmina.pl
SUMMARY:45 Jesienny Rajd Turystyczny
DESCRIPTION:PTTK o Buk zaprasza w dniu 5 października br. do Porażyna na 45 Jesienny Rajd Turystyczny. \nZapisy do 1 października br. w Oddziale PTTK w Buku\, Pl. Reszki 30. \nSzczegóły na plakacie. \n  \n 
URL:https://buk.gmina.pl/wydarzenie/45-jesienny-rajd-turystyczny/
ATTACH;FMTTYPE=image/jpeg:https://buk.gmina.pl/wp-content/uploads/2025/09/550369681_721327404253926_851853640198711693_n.jpg
END:VEVENT
BEGIN:VEVENT
DTSTART;TZID=Europe/Warsaw:20251005T130000
DTEND;TZID=Europe/Warsaw:20251005T140000
DTSTAMP:20260421T104806
CREATED:20250929T064834Z
LAST-MODIFIED:20250929T070911Z
UID:24709-1759669200-1759672800@buk.gmina.pl
SUMMARY:Festiwal Muzyki Kameralnej im. ks. Józefa Surzyńskiego
DESCRIPTION:W ramach Festiwalu Muzyki Kameralnej im. ks. Józefa Surzyńskiego w dniu 5 października o godz. 13:00 zapraszamy do Sanktuarium Matki Bożej Bukowskiej Literackiej na koncert organowy Huberta Trojanka. \n 
URL:https://buk.gmina.pl/wydarzenie/festiwal-muzyki-kameralnej-im-ks-jozefa-surzynskiego/
ATTACH;FMTTYPE=image/jpeg:https://buk.gmina.pl/wp-content/uploads/2025/09/Festiwal.jpg
END:VEVENT
BEGIN:VEVENT
DTSTART;VALUE=DATE:20251007
DTEND;VALUE=DATE:20251008
DTSTAMP:20260421T104806
CREATED:20250909T095144Z
LAST-MODIFIED:20250909T095151Z
UID:24583-1759795200-1759881599@buk.gmina.pl
SUMMARY:Bezpłatne badania mammograficzne
DESCRIPTION:Zapraszamy panie w wieku 45-74 lat w dniu 7 października br. do hali OSiR na ul. Szarych Szeregów 10\, na bezpłatne badania mammograficzne. \nRejestracja telefoniczna od poniedziałku do piątku w godz. 8:00-16:00 pod nr tel. 68/41 41 411 lub online www.diagnostyk.pl \nSzczegóły na plakacie.
URL:https://buk.gmina.pl/wydarzenie/bezplatne-badania-mammograficzne-3/
ATTACH;FMTTYPE=image/jpeg:https://buk.gmina.pl/wp-content/uploads/2025/09/Buk.jpg
END:VEVENT
BEGIN:VEVENT
DTSTART;TZID=Europe/Warsaw:20251007T150000
DTEND;TZID=Europe/Warsaw:20251007T170000
DTSTAMP:20260421T104806
CREATED:20250903T090357Z
LAST-MODIFIED:20250903T090357Z
UID:24537-1759849200-1759856400@buk.gmina.pl
SUMMARY:Bezpłatne Badania profilaktyczne jelita grubego
DESCRIPTION:Zapraszamy na bezpłatne badania profilaktyczne jelita grubego. \nW dniu 7 października br. o godz. 15:00  w Sali Miejskiej – dawnej synagodze spotkanie edukacyjne poprzedzające badania. \nW dniu 13 października br. w godz. 12:00-16:00 w Sali Miejskiej – dawnej synagodze odbiór materiału do badania. \nSzczegóły na plakacie. \n 
URL:https://buk.gmina.pl/wydarzenie/bezplatne-badania-profilaktyczne-jelita-grubego/
ATTACH;FMTTYPE=image/jpeg:https://buk.gmina.pl/wp-content/uploads/2025/09/plakat_Buk_07.10.2025-scaled.jpg
END:VEVENT
BEGIN:VEVENT
DTSTART;TZID=Europe/Warsaw:20251009T190000
DTEND;TZID=Europe/Warsaw:20251009T210000
DTSTAMP:20260421T104806
CREATED:20250829T090924Z
LAST-MODIFIED:20250829T090924Z
UID:24237-1760036400-1760043600@buk.gmina.pl
SUMMARY:Koncert Amici Canti z  z Filip Chojnacki Quintet
DESCRIPTION:Zapraszamy w dniu 9 października br. o godz. 19:00 do kina Wielkopolanin na koncert Zespołu Kameralnego Amici Canti z towarzyszeniem Filip Chojnacki Quintet. \nCena 50 zł. z Bukowską Kartą Mieszkańca 40 zł. \nSzczegóły na plakacie.
URL:https://buk.gmina.pl/wydarzenie/koncert-amici-canti-z-z-filip-chojnacki-quintet/
ATTACH;FMTTYPE=image/jpeg:https://buk.gmina.pl/wp-content/uploads/2025/08/540613494_1233946091866933_8826755235980161200_n.jpg
END:VEVENT
BEGIN:VEVENT
DTSTART;TZID=Europe/Warsaw:20251012T130000
DTEND;TZID=Europe/Warsaw:20251012T140000
DTSTAMP:20260421T104806
CREATED:20250929T065931Z
LAST-MODIFIED:20250929T070955Z
UID:24715-1760274000-1760277600@buk.gmina.pl
SUMMARY:Festiwal Muzyki Kameralnej im. ks. Józefa Surzyńskiego
DESCRIPTION:W ramach Festiwalu Muzyki Kameralnej im. ks. Józefa Surzyńskiego w dniu 12 października br. o godz. 13:00 zapraszamy do Sanktuarium Matki Bożej Bukowskiej Literackiej na koncert organowy Marcela Krawczaka.
URL:https://buk.gmina.pl/wydarzenie/festiwal-muzyki-kameralnej-im-ks-jozefa-surzynskiego-2/
ATTACH;FMTTYPE=image/jpeg:https://buk.gmina.pl/wp-content/uploads/2025/09/Festiwal.jpg
END:VEVENT
BEGIN:VEVENT
DTSTART;TZID=Europe/Warsaw:20251013T120000
DTEND;TZID=Europe/Warsaw:20251013T160000
DTSTAMP:20260421T104806
CREATED:20250903T090500Z
LAST-MODIFIED:20250903T090500Z
UID:24540-1760356800-1760371200@buk.gmina.pl
SUMMARY:Bezpłatne badania profilaktyczne jelita grubego
DESCRIPTION:Zapraszamy na bezpłatne badania profilaktyczne jelita grubego. \nW dniu 7 października br. o godz. 15:00  w Sali Miejskiej – dawnej synagodze spotkanie edukacyjne poprzedzające badania. \nW dniu 13 października br. w godz. 12:00-16:00 w Sali Miejskiej – dawnej synagodze odbiór materiału do badania. \nSzczegóły na plakacie.
URL:https://buk.gmina.pl/wydarzenie/bezplatne-badania-profilaktyczne-jelita-grubego-2/
ATTACH;FMTTYPE=image/jpeg:https://buk.gmina.pl/wp-content/uploads/2025/09/plakat_Buk_07.10.2025-scaled.jpg
END:VEVENT
BEGIN:VEVENT
DTSTART;TZID=Europe/Warsaw:20251014T150000
DTEND;TZID=Europe/Warsaw:20251014T180000
DTSTAMP:20260421T104806
CREATED:20251007T072425Z
LAST-MODIFIED:20251007T072425Z
UID:24804-1760454000-1760464800@buk.gmina.pl
SUMMARY:Zapraszamy na grzybobranie
DESCRIPTION:Filia Biblioteczna w Dobieżynie zaprasza w dniu 14 października br. o godz. 15:00 dorosłych\, młodzież i dzieci na zajęcia z szydełkowania. \nSzczegóły na plakacie.
URL:https://buk.gmina.pl/wydarzenie/zapraszamy-na-grzybobranie/
ATTACH;FMTTYPE=image/jpeg:https://buk.gmina.pl/wp-content/uploads/2025/10/557964924_122108843253003272_8514555903437131101_n.jpg
END:VEVENT
BEGIN:VEVENT
DTSTART;TZID=Europe/Warsaw:20251018T173000
DTEND;TZID=Europe/Warsaw:20251018T183000
DTSTAMP:20260421T104806
CREATED:20251014T082248Z
LAST-MODIFIED:20251014T082248Z
UID:24920-1760808600-1760812200@buk.gmina.pl
SUMMARY:Koncert zespołu Lunaria
DESCRIPTION:W dniu 18 października br. o godz. 17:30 odbędzie się w hali OSiR koncert zespołu Lunaria. \nWstęp wolny. \nSzczegóły na plakacie. \n 
URL:https://buk.gmina.pl/wydarzenie/koncert-zespolu-lunaria/
ATTACH;FMTTYPE=image/jpeg:https://buk.gmina.pl/wp-content/uploads/2025/10/plakat-Lunaria.jpg
END:VEVENT
BEGIN:VEVENT
DTSTART;TZID=Europe/Warsaw:20251019T140000
DTEND;TZID=Europe/Warsaw:20251019T170000
DTSTAMP:20260421T104806
CREATED:20250929T070142Z
LAST-MODIFIED:20250929T070811Z
UID:24718-1760882400-1760893200@buk.gmina.pl
SUMMARY:Festiwal Muzyki Kameralnej im. ks. Józefa Surzyńskiego
DESCRIPTION:W ramach Festiwalu Muzyki Kameralnej im. ks. Józefa Surzyńskiego w dniu 19 października br. o godz. 13:00 zapraszamy do Sanktuarium Matki Bożej Bukowskiej Literackiej na koncert Piotra Górskiego (organy) i Zofii Andersz (skrzypce). \n 
URL:https://buk.gmina.pl/wydarzenie/24718/
ATTACH;FMTTYPE=image/jpeg:https://buk.gmina.pl/wp-content/uploads/2025/09/Festiwal.jpg
END:VEVENT
BEGIN:VEVENT
DTSTART;TZID=Europe/Warsaw:20251023T080000
DTEND;TZID=Europe/Warsaw:20251023T160000
DTSTAMP:20260421T104806
CREATED:20251014T112806Z
LAST-MODIFIED:20251014T112806Z
UID:24923-1761206400-1761235200@buk.gmina.pl
SUMMARY:Osteobus w Buku
DESCRIPTION:Bezpłatne badania dla mieszkańców gminy Buk realizowane w ramach Programu profilaktyki i wczesnego wykrywania osteoporozy.\nMogą z nich skorzystać kobiety 65‍+\, mężczyźni 75+ oraz kobiety między 40\, a 65 rokiem życia z dodatkowym czynnikiem ryzyka złamania kości. Osteoporoza – uznana przez WHO za jedną z głównych chorób cywilizacyjnych!  Cierpi na nią ponad 200 milionów ludzi na świecie.\n\n\nWięcej informacji w załączonym pliku i na stronie w linku: https://www.diagnostykaobrazowa.eu/program-osteoporozy-buk/ \nOsteobus – specjalnie przystosowany bus wyposażony w sprzęt diagnostyczny stanie ponownie przed halą OSiR w Buku. \nTermin: 23 października br. w godz. 14:00-18:00 \nZapisy pod nr telefonu: 61 627 07 04 w godzinach 8:00-16:00
URL:https://buk.gmina.pl/wydarzenie/osteobus-w-buku-2/
ATTACH;FMTTYPE=image/jpeg:https://buk.gmina.pl/wp-content/uploads/2025/10/Osteoporoza_23_10.jpg
END:VEVENT
BEGIN:VEVENT
DTSTART;TZID=Europe/Warsaw:20251023T180000
DTEND;TZID=Europe/Warsaw:20251023T190000
DTSTAMP:20260421T104806
CREATED:20251016T075030Z
LAST-MODIFIED:20251016T075030Z
UID:24931-1761242400-1761246000@buk.gmina.pl
SUMMARY:ŻYCIE W BIEGU
DESCRIPTION:W dniu 23 października br. o godz. 18:00 w kawiarni STOPKLATKA otwarcie wystawy koszulek i  pamiątek biegowych z kolekcji Mariana Szymańskiego. \nSzczegóły na plakacie. \n  \n 
URL:https://buk.gmina.pl/wydarzenie/zycie-w-biegu/
ATTACH;FMTTYPE=image/jpeg:https://buk.gmina.pl/wp-content/uploads/2025/10/marian-szymanski.jpg
END:VEVENT
BEGIN:VEVENT
DTSTART;TZID=Europe/Warsaw:20251026T130000
DTEND;TZID=Europe/Warsaw:20251026T150000
DTSTAMP:20260421T104806
CREATED:20251022T092400Z
LAST-MODIFIED:20251022T092400Z
UID:25055-1761483600-1761490800@buk.gmina.pl
SUMMARY:Akademia wędkarska dla dzieci
DESCRIPTION:Młodzieżowa Szkółka Wędkarska zaprasza młodych pasjonatów wędkarstwa w dniu 26 października br. o godz. 13:00 na Łowisko Wapno  AKADEMIĘ WĘDKARSKĄ \n\nW programie:\n\n nauka podstaw wędkarstwa\,\n praktyczne zajęcia nad wodą\,\n spotkanie z pasjonatami wędkowania.\n\n\n\nSzczegóły na plakacie.
URL:https://buk.gmina.pl/wydarzenie/akademia-wedkarska-dla-dzieci/
ATTACH;FMTTYPE=image/jpeg:https://buk.gmina.pl/wp-content/uploads/2025/10/568494207_1426032162856731_5022533348355326157_n.jpg
END:VEVENT
BEGIN:VEVENT
DTSTART;TZID=Europe/Warsaw:20251026T160000
DTEND;TZID=Europe/Warsaw:20251026T170000
DTSTAMP:20260421T104806
CREATED:20250929T070447Z
LAST-MODIFIED:20250929T070447Z
UID:24721-1761494400-1761498000@buk.gmina.pl
SUMMARY:Festiwal Muzyki Kameralnej im. ks. Józefa Surzyńskiego
DESCRIPTION:W dniu 26 października br. o godz. 16:00 zapraszamy do Sanktuarium Matki Bożej Bukowskiej Literackiej na koncert finałowy Festiwalu Muzyki Kameralnej im. ks. Józefa Surzyńskiego. \n 
URL:https://buk.gmina.pl/wydarzenie/festiwal-muzyki-kameralnej-im-ks-jozefa-surzynskiego-3/
ATTACH;FMTTYPE=image/jpeg:https://buk.gmina.pl/wp-content/uploads/2025/09/Festiwal.jpg
END:VEVENT
BEGIN:VEVENT
DTSTART;TZID=Europe/Warsaw:20251031T163000
DTEND;TZID=Europe/Warsaw:20251031T183000
DTSTAMP:20260421T104806
CREATED:20251016T075348Z
LAST-MODIFIED:20251016T075348Z
UID:24934-1761928200-1761935400@buk.gmina.pl
SUMMARY:Korowód świętych
DESCRIPTION:W dniu 31 października br. o godz. 16:30 w Sanktuarium Matki Bożej Bukowskiej Literackiej rozpocznie się przemarsz korowodu świętych do Sali Miejskiej. \nSzczegóły na plakacie.
URL:https://buk.gmina.pl/wydarzenie/korowod-swietych-3/
ATTACH;FMTTYPE=image/jpeg:https://buk.gmina.pl/wp-content/uploads/2025/10/korowod-swietych.jpg
END:VEVENT
BEGIN:VEVENT
DTSTART;TZID=Europe/Warsaw:20251031T180000
DTEND;TZID=Europe/Warsaw:20251031T200000
DTSTAMP:20260421T104806
CREATED:20251028T115939Z
LAST-MODIFIED:20251028T115939Z
UID:25105-1761933600-1761940800@buk.gmina.pl
SUMMARY:Bal Wszystkich Świętych w Niepruszewie
DESCRIPTION:31 października o godz. 18:00 w WDK w Niepruszewie odbędzie się Bal Wszystkich Świętych dla dzieci. \nSzczegóły na plakacie.
URL:https://buk.gmina.pl/wydarzenie/bal-wszystkich-swietych-w-niepruszewie/
ATTACH;FMTTYPE=image/jpeg:https://buk.gmina.pl/wp-content/uploads/2025/10/558991362_1141681108059309_6269357525073852105_n.jpg
END:VEVENT
END:VCALENDAR