BEGIN:VCALENDAR
VERSION:2.0
PRODID:-//Miasto i Gmina Buk - ECPv6.15.20//NONSGML v1.0//EN
CALSCALE:GREGORIAN
METHOD:PUBLISH
X-ORIGINAL-URL:https://buk.gmina.pl
X-WR-CALDESC:Wydarzenia dla Miasto i Gmina Buk
REFRESH-INTERVAL;VALUE=DURATION:PT1H
X-Robots-Tag:noindex
X-PUBLISHED-TTL:PT1H
BEGIN:VTIMEZONE
TZID:Europe/Warsaw
BEGIN:DAYLIGHT
TZOFFSETFROM:+0100
TZOFFSETTO:+0200
TZNAME:CEST
DTSTART:20240331T010000
END:DAYLIGHT
BEGIN:STANDARD
TZOFFSETFROM:+0200
TZOFFSETTO:+0100
TZNAME:CET
DTSTART:20241027T010000
END:STANDARD
BEGIN:DAYLIGHT
TZOFFSETFROM:+0100
TZOFFSETTO:+0200
TZNAME:CEST
DTSTART:20250330T010000
END:DAYLIGHT
BEGIN:STANDARD
TZOFFSETFROM:+0200
TZOFFSETTO:+0100
TZNAME:CET
DTSTART:20251026T010000
END:STANDARD
BEGIN:DAYLIGHT
TZOFFSETFROM:+0100
TZOFFSETTO:+0200
TZNAME:CEST
DTSTART:20260329T010000
END:DAYLIGHT
BEGIN:STANDARD
TZOFFSETFROM:+0200
TZOFFSETTO:+0100
TZNAME:CET
DTSTART:20261025T010000
END:STANDARD
END:VTIMEZONE
BEGIN:VEVENT
DTSTART;TZID=Europe/Warsaw:20250404T160000
DTEND;TZID=Europe/Warsaw:20250406T170000
DTSTAMP:20260421T200330
CREATED:20250129T105102Z
LAST-MODIFIED:20250403T053528Z
UID:21545-1743782400-1743958800@buk.gmina.pl
SUMMARY:Spartakus Cup
DESCRIPTION:UKS Spartakus zaprasza do hali OSiR na halowe turnieje piłki ręcznej Spartakus Cup 2025. \nW dniach 4-6 kwietnia br. grają roczniki 2010-2011. \nSzczegóły na plakacie.
URL:https://buk.gmina.pl/wydarzenie/spartakus-cup-2/
ATTACH;FMTTYPE=image/png:https://buk.gmina.pl/wp-content/uploads/2025/01/tombud-spartakus-cup.png
END:VEVENT
BEGIN:VEVENT
DTSTART;TZID=Europe/Warsaw:20250404T170000
DTEND;TZID=Europe/Warsaw:20250404T180000
DTSTAMP:20260421T200330
CREATED:20250328T061523Z
LAST-MODIFIED:20250328T061523Z
UID:22251-1743786000-1743789600@buk.gmina.pl
SUMMARY:Wieczór z bajkami w Niepruszewie
DESCRIPTION:Biblioteka Publiczna w Buku z filią w Niepruszewie zaprasza na Wieczór z Bajkami. \nszczegóły na plakacie
URL:https://buk.gmina.pl/wydarzenie/wieczor-z-bajkami-w-niepruszewie-2/
ATTACH;FMTTYPE=image/jpeg:https://buk.gmina.pl/wp-content/uploads/2025/03/486446880_1205347464932189_3838928123797118293_n.jpg
END:VEVENT
BEGIN:VEVENT
DTSTART;TZID=Europe/Warsaw:20250405T170000
DTEND;TZID=Europe/Warsaw:20250405T190000
DTSTAMP:20260421T200330
CREATED:20250403T053151Z
LAST-MODIFIED:20250403T053151Z
UID:22339-1743872400-1743879600@buk.gmina.pl
SUMMARY:Mecz I Ligi Kobiet w Dopiewie
DESCRIPTION:W dniu 5 kwietnia br. o godz. 17:00 odbędzie się w w hali GOSIR w Dopiewie mecz I Ligi Kobiet. \nBDKPR zagra z MTS Kwidzyń. \nSzczegóły na plakacie.
URL:https://buk.gmina.pl/wydarzenie/mecz-i-ligi-kobiet-w-dopiewie/
ATTACH;FMTTYPE=image/jpeg:https://buk.gmina.pl/wp-content/uploads/2025/04/487432131_988342973273598_3303825086963015119_n.jpg
END:VEVENT
BEGIN:VEVENT
DTSTART;TZID=Europe/Warsaw:20250405T190000
DTEND;TZID=Europe/Warsaw:20250405T210000
DTSTAMP:20260421T200330
CREATED:20250403T054317Z
LAST-MODIFIED:20250403T054317Z
UID:22343-1743879600-1743886800@buk.gmina.pl
SUMMARY:Mecz I Ligi Seniorów
DESCRIPTION:W dniu 5 kwietnia br. o godz. 19:00 odbędzie się w hali OSIR w Buku mecz I Ligi Seniorów. \nSzczegóły na plakacie.
URL:https://buk.gmina.pl/wydarzenie/mecz-i-ligi-seniorow-2/
ATTACH;FMTTYPE=image/png:https://buk.gmina.pl/wp-content/uploads/2025/04/buk-wolsztyn.png
END:VEVENT
BEGIN:VEVENT
DTSTART;TZID=Europe/Warsaw:20250406T130000
DTEND;TZID=Europe/Warsaw:20250406T140000
DTSTAMP:20260421T200330
CREATED:20250331T144636Z
LAST-MODIFIED:20250331T144636Z
UID:22320-1743944400-1743948000@buk.gmina.pl
SUMMARY:Koncert Pieśni Pasyjnych
DESCRIPTION:W dniu 6 kwietnia br. ok. godz. 13:00 odbędzie się w Sanktuarium Matki Bożej Bukowskiej Literackiej koncert pieśni pasyjnych w wykonaniu Zespołu Kameralnego Amic Canti. \nSzczegóły na plakacie.
URL:https://buk.gmina.pl/wydarzenie/koncert-piesni-pasyjnych/
ATTACH;FMTTYPE=image/jpeg:https://buk.gmina.pl/wp-content/uploads/2025/03/Koncert-Piesni-Pasyjnych-6-kwietnia-2025.jpg
END:VEVENT
BEGIN:VEVENT
DTSTART;TZID=Europe/Warsaw:20250410T163000
DTEND;TZID=Europe/Warsaw:20250410T180000
DTSTAMP:20260421T200330
CREATED:20250331T144340Z
LAST-MODIFIED:20250331T144806Z
UID:22316-1744302600-1744308000@buk.gmina.pl
SUMMARY:Warsztaty Palmy Wielkanocne
DESCRIPTION:MGOK zaprasza dzieci w dniu 10 kwietnia br.\, o godz. 16:30 na warsztaty Palmy Wielkanocne. \nKoszt 10 zł. \nSzczegóły na plakacie.
URL:https://buk.gmina.pl/wydarzenie/warsztaty-palmy-wielkanocne/
ATTACH;FMTTYPE=image/jpeg:https://buk.gmina.pl/wp-content/uploads/2025/03/palmy-2025r-2.jpg
END:VEVENT
BEGIN:VEVENT
DTSTART;TZID=Europe/Warsaw:20250412T093000
DTEND;TZID=Europe/Warsaw:20250412T110000
DTSTAMP:20260421T200330
CREATED:20250408T092609Z
LAST-MODIFIED:20250408T092733Z
UID:22374-1744450200-1744455600@buk.gmina.pl
SUMMARY:Bajkowe Czytanki w Kinie Wielkopolanin
DESCRIPTION:Kino Wielkopolanin w Buku zaprasza na „Bajkowe czytanki” – szczegóły na plakacie
URL:https://buk.gmina.pl/wydarzenie/bajkowe-czytanki-w-kinie-wielkopolanin-3/
ATTACH;FMTTYPE=image/jpeg:https://buk.gmina.pl/wp-content/uploads/2025/04/490026276_1217468873720048_6850689445012979893_n.jpg
END:VEVENT
BEGIN:VEVENT
DTSTART;TZID=Europe/Warsaw:20250426T170000
DTEND;TZID=Europe/Warsaw:20250426T190000
DTSTAMP:20260421T200330
CREATED:20250423T111712Z
LAST-MODIFIED:20250423T111712Z
UID:22580-1745686800-1745694000@buk.gmina.pl
SUMMARY:Mecz I Ligi Seniorów
DESCRIPTION:W dniu 26 kwietnia br. o godz. 17:00 odbędzie się miecz I Ligi Seniorów piłki ręcznej mężczyzn. \nSzczegóły na plakacie.
URL:https://buk.gmina.pl/wydarzenie/mecz-i-ligi-seniorow-3/
ATTACH;FMTTYPE=image/png:https://buk.gmina.pl/wp-content/uploads/2025/04/buk-swidnica.png
END:VEVENT
BEGIN:VEVENT
DTSTART;TZID=Europe/Warsaw:20250427T090000
DTEND;TZID=Europe/Warsaw:20250427T130000
DTSTAMP:20260421T200330
CREATED:20250422T081509Z
LAST-MODIFIED:20250422T081509Z
UID:22564-1745744400-1745758800@buk.gmina.pl
SUMMARY:Wspólne sprzątanie jeziora w Niepruszewie
DESCRIPTION:Młodzieżowa Szkółka Wędkarska zaprasza w dniu 27 kwietnia br. na „Wspólne sprzątanie jeziora w Niepruszewie” \nStart w niedzielę o godz. 9:00 pod wiatą na plaży. \nSzczegóły na plakacie. \n 
URL:https://buk.gmina.pl/wydarzenie/wspolne-sprzatanie-jeziora-w-niepruszewie/
ATTACH;FMTTYPE=image/jpeg:https://buk.gmina.pl/wp-content/uploads/2025/04/491799926_1256626623130620_7521552324393370087_n.jpg
END:VEVENT
BEGIN:VEVENT
DTSTART;TZID=Europe/Warsaw:20250427T110000
DTEND;TZID=Europe/Warsaw:20250427T133000
DTSTAMP:20260421T200330
CREATED:20250410T114530Z
LAST-MODIFIED:20250410T114530Z
UID:22451-1745751600-1745760600@buk.gmina.pl
SUMMARY:51 Zlot turystów w Żarnowcu - Powitanie Wiosny
DESCRIPTION:PTTK oddział w Buku zaprasza na 51 Zlot turystów w Żarnowcu – Powitanie Wiosny\, \nszczegóły na plakacie
URL:https://buk.gmina.pl/wydarzenie/51-zlot-turystow-w-zarnowcu-powitanie-wiosny/
ATTACH;FMTTYPE=image/jpeg:https://buk.gmina.pl/wp-content/uploads/2025/04/490023566_592852487101419_6366506267127475292_n.jpg
END:VEVENT
BEGIN:VEVENT
DTSTART;TZID=Europe/Warsaw:20250427T140000
DTEND;TZID=Europe/Warsaw:20250427T160000
DTSTAMP:20260421T200330
CREATED:20250424T060838Z
LAST-MODIFIED:20250424T060838Z
UID:22590-1745762400-1745769600@buk.gmina.pl
SUMMARY:Piknik Wiosenny w sołectwie Dobieżyn
DESCRIPTION:W dniu 27 kwietnia br. o godz. 14:00 odbędzie się w Dobieżynie Piknik Wiosenny. \nSzczegóły na plakacie.
URL:https://buk.gmina.pl/wydarzenie/piknik-wiosenny-w-solectwie-dobiezyn/
ATTACH;FMTTYPE=image/jpeg:https://buk.gmina.pl/wp-content/uploads/2025/04/492254747_703221675411886_6307037557489134272_n.jpg
END:VEVENT
END:VCALENDAR