BEGIN:VCALENDAR
VERSION:2.0
PRODID:-//Miasto i Gmina Buk - ECPv6.15.20//NONSGML v1.0//EN
CALSCALE:GREGORIAN
METHOD:PUBLISH
X-ORIGINAL-URL:https://buk.gmina.pl
X-WR-CALDESC:Wydarzenia dla Miasto i Gmina Buk
REFRESH-INTERVAL;VALUE=DURATION:PT1H
X-Robots-Tag:noindex
X-PUBLISHED-TTL:PT1H
BEGIN:VTIMEZONE
TZID:Europe/Warsaw
BEGIN:DAYLIGHT
TZOFFSETFROM:+0100
TZOFFSETTO:+0200
TZNAME:CEST
DTSTART:20200329T010000
END:DAYLIGHT
BEGIN:STANDARD
TZOFFSETFROM:+0200
TZOFFSETTO:+0100
TZNAME:CET
DTSTART:20201025T010000
END:STANDARD
BEGIN:DAYLIGHT
TZOFFSETFROM:+0100
TZOFFSETTO:+0200
TZNAME:CEST
DTSTART:20210328T010000
END:DAYLIGHT
BEGIN:STANDARD
TZOFFSETFROM:+0200
TZOFFSETTO:+0100
TZNAME:CET
DTSTART:20211031T010000
END:STANDARD
BEGIN:DAYLIGHT
TZOFFSETFROM:+0100
TZOFFSETTO:+0200
TZNAME:CEST
DTSTART:20220327T010000
END:DAYLIGHT
BEGIN:STANDARD
TZOFFSETFROM:+0200
TZOFFSETTO:+0100
TZNAME:CET
DTSTART:20221030T010000
END:STANDARD
END:VTIMEZONE
BEGIN:VEVENT
DTSTART;VALUE=DATE:20211219
DTEND;VALUE=DATE:20211220
DTSTAMP:20260422T130529
CREATED:20211209T061635Z
LAST-MODIFIED:20211209T061635Z
UID:5302-1639872000-1639958399@buk.gmina.pl
SUMMARY:Stroiki świąteczne - warsztaty w Dobieżynie
DESCRIPTION:Sołectwo Dobieżyn wraz z Radą Sołecką oraz Kołem Gospodyń Wiejskich z Dobieżyna  zaprasza na warsztaty z układania stroików świątecznych. \nWiejski Dom Kultury w Dobieżynie\, 15 grudnia (środa) o godz. 15:00 oraz 19 grudnia (niedziela) o godz. 15:00.  \nKażdy uczestnik może wziąć udział w warsztatach tylko raz. O udziale w wydarzeniu decyduje kolejność zgłoszeń.\nZapisy pod numerem tel. 697 686 873. \nOrganizatorzy zapewniają materiały do wykonania stroików.\nWstęp bezpłatny.
URL:https://buk.gmina.pl/wydarzenie/stroiki-swiateczne-warsztaty-w-dobiezynie-2/
ATTACH;FMTTYPE=image/png:https://buk.gmina.pl/wp-content/uploads/2021/12/warsztaty-strikowe-12-2021.png
END:VEVENT
BEGIN:VEVENT
DTSTART;VALUE=DATE:20211218
DTEND;VALUE=DATE:20211219
DTSTAMP:20260422T130529
CREATED:20211119T130412Z
LAST-MODIFIED:20211125T114822Z
UID:5121-1639785600-1639871999@buk.gmina.pl
SUMMARY:I Świąteczny Turniej Szachowy
DESCRIPTION:Klub  Sportowy Korona Zakrzewo zaprasza na I Świąteczny Turniej Szachowy\, który odbędzie się 18 grudnia w Sali Miejskiej w Buku (ul. Mury 5) \nRozgrywki przeprowadzone będą w dwóch grupach turniejowych: \n\nOd godz. 10:00 – juniorzy do lat 18 (2 grupy)\nOd godz. 15:00 – szachy błyskawiczne (grupa open)\n\nZgłoszenie do turnieju można wysłać na e-mail: szachy@korona-zakrzewo.pl \nSzczegółowe informacje o turnieju zamieszczone są na stronach: www.korona-zakrzewo.pl oraz facebook.com/koronaszachy \nNa zwycięzców czekają puchary i cenne nagrody!\nProjekt realizowany jest przy wsparciu finansowym Miasta i Gminy Buk. \n  \nREGULAMIN TURNIEJU \n1. ORGANIZATOR:\n* Stowarzyszenie Klub Sportowy Korona Zakrzewo. \n2. WSPÓŁORGANIZATORZY:\n* Urząd Miasta i Gminy Buk\n* Sala Miejska w Buku \n3. TERMIN I GRUPY TURNIEJOWE:\n* sobota 18.12.2021 r. godz. 10.00 TURNIEJ SZACHOWY DLA JUNIORÓW DO LAT 18; dwie grupy:A – od rankingu PZSZACH 1400; B – od rankingu PZSZACH 1000 do 1250 (możliwość zdobycia kategorii szachowej)\n* sobota 18.12.2021 r. godz. 15.00 BŁYSKAWICZNY TURNIEJ SZACHOWY OPEN; zgłoszony do FIDE. \n4. MIEJSCE:\n* SALA MIEJSKA W BUKU\, ul. Mury 5 (wjazd na parking od ulicy Wielkowiejskiej). \n5. SYSTEM ROZGRYWEK ORAZ GRUPY TURNIEJOWE:\n* TURNIEJ SZACHOWY DLA JUNIORÓW DO LAT 18:\nGrupa A – 7 rund systemem szwajcarskim; czas gry dla każdego zawodnika 10 minut + 2 sekundy na ruch lub 12 minut dla każdego zawodnika\nGrupa B – 5 rund systemem szwajcarskim; czas gry dla każdego zawodnika 30 minut\n* BŁYSKAWICZNY TURNIEJ SZACHOWY: 13 rund; 3’+ 2” na zawodnika\n* o kolejności miejsc decydują suma zdobytych punktów-a w przypadku równej liczby kryteria pomocnicze\nw kolejności: średni Buchholz\, Buchholz\, liczba zwycięstw\, Progress. \n6. WARUNKI UCZESTNICTWA I WPISOWE:\n* w zawodach mogą uczestniczyć wszyscy chętni\, bez względu na posiadane umiejętności – pod warunkiem zgłoszenia się w terminie do 15 grudnia 2021 roku i opłacenia wpisowego w dniu zawodów najpóźniej 15 minut przed planowanym rozpoczęciem: 20zł dla mieszkańców Gminy Buk oraz dla zawodników KS Korona Zakrzewo\, pozostali zawodnicy 30zł.\n* zawodnicy z tytułami MM\, AM są zwolnieni z wpisowego pod warunkiem zgłoszenia się w terminie\n* ograniczona ilość miejsc do 60 osób; decyduje kolejność zgłoszeń\n* zapisy do turnieju na stronie chessmanager.com lub na adres e-mail: szachy@korona-zakrzewo.pl\n* całość wpisowego przeznaczona jest na nagrody finansowe w turnieju błyskawicznym oraz na pokrycie kosztów organizacyjnych\n* potwierdzeniem przyjęcia zawodnika do turnieju będzie umieszczenie jego nazwiska na liście startowej turnieju\n* zgłoszenie do turnieju upoważnia organizatorów i sędziów do przetwarzania danych osobowy oraz ich wizerunku w celach promocyjno-marketingowych\, związanych z ich działalnością\, zgodnie z obowiązującą Ustawą o ochronie danych osobowych i RODO\n* organizatorzy zastrzega sobie prawo do nieodpłatnego wykorzystania materiałów audiowizualnych zrealizowanych podczas turnieju. \n7. NAGRODY:\n* TURNIEJ SZACHOWY DLA JUNIORÓW DO LAT 18: organizator przewiduje nagrody rzeczowe dla wszystkich uczestników; o wyborze nagrody decyduje kolejność zajętych miejsc; dla najlepszych trzech chłopców i dziewcząt w każdej grupie przewidziane są puchary.\n* BŁYSKAWICZNY TURNIEJ SZACHOWY:\nnagrody finansowe: I – 300zł; II – 200zł; III – 150zł;\nnagrody rzeczowe (karta podarunkowa o wartości 100zł): za zajęcie miejsc od IV do VI; dla najlepszej kobiety; dla najlepszego senior 60+; najlepszego juniora; najlepszej juniorki; dla najlepszego zawodnika do III kategorii; dla najlepszego zawodnika z kategorią II – II+; dla najlepszego mieszkańca Gminy Buk\,\n* jedna osoba może otrzymać więcej niż jedną nagrodę. \n8. POZOSTAŁE INFORMACJE:\n* sędzią głównym turniejów dla juniorów będzie Pani Dorota Sikorska; licencja 15300105\n* dzieci w trakcie zawodów muszą być pod opieką osoby pełnoletniej\n* organizator zapewnia sprzęt szachowy\n* w związku z epidemią COVID-19 na turnieju będą obowiązywały aktualne regulaminy i zalecenia dotyczące uprawiania sportu. Informujemy również\, że Sala Miejska w Buku spełnia wytyczne sanitarne Głównego Inspektora Sanitarnego\, Ministra Zdrowia i Ministerstwa Edukacji Narodowej\n* planowane zakończenie turnieju dla juniorów odbędzie się około godziny 14.00\, natomiast turnieju błyskawicznego około godziny 18.00\n* ostateczna interpretacja komunikatu należy do organizatora \n9. PARTNERZY I DARCZYŃCY:\nPASO\nPOTRAWIAK\nPARTNERZY MEDIALNI:\nNASZ GŁOS POZNAŃSKI\, KOSYNIER BUKOWSKI\, TELEWIZJA STK\nPROJEKT ZREALIZOWANO PRZY WSPARCIU FINANSOWYM MIASTA I GMINY BUK \nSerdecznie zapraszamy!
URL:https://buk.gmina.pl/wydarzenie/i-swiateczny-turniej-szachowy/
ATTACH;FMTTYPE=image/jpeg:https://buk.gmina.pl/wp-content/uploads/2021/11/I-swiateczny-turniej-szachowy-JPG.jpg
END:VEVENT
BEGIN:VEVENT
DTSTART;TZID=Europe/Warsaw:20211217T140000
DTEND;TZID=Europe/Warsaw:20211217T190000
DTSTAMP:20260422T130529
CREATED:20211206T144004Z
LAST-MODIFIED:20211206T144004Z
UID:5288-1639749600-1639767600@buk.gmina.pl
SUMMARY:Zagroda św. Mikołaja
DESCRIPTION:Zapraszamy do zagrody św. Mikołaja z prawdziwymi reniferami. \nBędzie czekać mnóstwo atrakcji w świątecznej atmosferze. \nPark Sokoła w Buku\, 17 grudnia\, godz. 14-19. \n 
URL:https://buk.gmina.pl/wydarzenie/zagroda-sw-mikolaja/
ATTACH;FMTTYPE=image/jpeg:https://buk.gmina.pl/wp-content/uploads/2021/12/renifery-17-12.jpg
END:VEVENT
BEGIN:VEVENT
DTSTART;VALUE=DATE:20211215
DTEND;VALUE=DATE:20211216
DTSTAMP:20260422T130529
CREATED:20211209T061552Z
LAST-MODIFIED:20211209T061552Z
UID:5299-1639526400-1639612799@buk.gmina.pl
SUMMARY:Stroiki świąteczne - warsztaty w Dobieżynie
DESCRIPTION:Sołectwo Dobieżyn wraz z Radą Sołecką oraz Kołem Gospodyń Wiejskich z Dobieżyna  zaprasza na warsztaty z układania stroików świątecznych. \nWiejski Dom Kultury w Dobieżynie\, 15 grudnia (środa) o godz. 15:00 oraz 19 grudnia (niedziela) o godz. 15:00.  \nKażdy uczestnik może wziąć udział w warsztatach tylko raz. O udziale w wydarzeniu decyduje kolejność zgłoszeń.\nZapisy pod numerem tel. 697 686 873. \nOrganizatorzy zapewniają materiały do wykonania stroików.\nWstęp bezpłatny.
URL:https://buk.gmina.pl/wydarzenie/stroiki-swiateczne-warsztaty-w-dobiezynie/
ATTACH;FMTTYPE=image/png:https://buk.gmina.pl/wp-content/uploads/2021/12/warsztaty-strikowe-12-2021.png
END:VEVENT
END:VCALENDAR