BEGIN:VCALENDAR
VERSION:2.0
PRODID:-//Miasto i Gmina Buk - ECPv6.15.20//NONSGML v1.0//EN
CALSCALE:GREGORIAN
METHOD:PUBLISH
X-WR-CALNAME:Miasto i Gmina Buk
X-ORIGINAL-URL:https://buk.gmina.pl
X-WR-CALDESC:Wydarzenia dla Miasto i Gmina Buk
REFRESH-INTERVAL;VALUE=DURATION:PT1H
X-Robots-Tag:noindex
X-PUBLISHED-TTL:PT1H
BEGIN:VTIMEZONE
TZID:Europe/Warsaw
BEGIN:DAYLIGHT
TZOFFSETFROM:+0100
TZOFFSETTO:+0200
TZNAME:CEST
DTSTART:20210328T010000
END:DAYLIGHT
BEGIN:STANDARD
TZOFFSETFROM:+0200
TZOFFSETTO:+0100
TZNAME:CET
DTSTART:20211031T010000
END:STANDARD
BEGIN:DAYLIGHT
TZOFFSETFROM:+0100
TZOFFSETTO:+0200
TZNAME:CEST
DTSTART:20220327T010000
END:DAYLIGHT
BEGIN:STANDARD
TZOFFSETFROM:+0200
TZOFFSETTO:+0100
TZNAME:CET
DTSTART:20221030T010000
END:STANDARD
BEGIN:DAYLIGHT
TZOFFSETFROM:+0100
TZOFFSETTO:+0200
TZNAME:CEST
DTSTART:20230326T010000
END:DAYLIGHT
BEGIN:STANDARD
TZOFFSETFROM:+0200
TZOFFSETTO:+0100
TZNAME:CET
DTSTART:20231029T010000
END:STANDARD
END:VTIMEZONE
BEGIN:VEVENT
DTSTART;TZID=Europe/Warsaw:20220825T163000
DTEND;TZID=Europe/Warsaw:20220825T173000
DTSTAMP:20260421T110647
CREATED:20220623T073514Z
LAST-MODIFIED:20220623T073514Z
UID:7419-1661445000-1661448600@buk.gmina.pl
SUMMARY:Joga w Parku Sokoła
DESCRIPTION:Joga w Parku Sokoła – w każdy czwartek o godzinie 16:30.  \nJoga to bezpieczne i precyzyjnie opracowane ćwiczenia\, które wzmacniają i regenerują ciało\, poprawiają koncentrację\, relaksują i są pomocne przy problemach z kręgosłupem. Zajęcia dla każdego i w każdym wieku. Poziom zajęć dostosowany będzie do możliwości i potrzeb uczestników. \nProsimy o przyjście w wygodnym stroju do ćwiczeń oraz o przyniesienie swojej maty! \nZajęcia jogi będą odbywały się w okresie letnim – przez cały lipiec i sierpień. \nZAJĘCIA SĄ BEZPŁATNE!
URL:https://buk.gmina.pl/wydarzenie/joga-w-parku-sokola-10/
ATTACH;FMTTYPE=image/jpeg:https://buk.gmina.pl/wp-content/uploads/2022/06/Joga2022.jpg
END:VEVENT
BEGIN:VEVENT
DTSTART;TZID=Europe/Warsaw:20220821T160000
DTEND;TZID=Europe/Warsaw:20220821T213000
DTSTAMP:20260421T110647
CREATED:20220816T071108Z
LAST-MODIFIED:20220821T110741Z
UID:8014-1661097600-1661117400@buk.gmina.pl
SUMMARY:Piknik z teatrem - nowy termin
DESCRIPTION:Z powodu intensywnych opadów deszczu wydarzenie zostało przeniesione na 4 września.\n\n\n\n\n\n\nMiejsko-Gminny Ośrodek Kultury w Buku zaprasza w niedzielne popołudnie do Parku Sokoła na piknik.\nW ramach wydarzenia odbędą się dwa spektakle:\n\n„Czas Wilka”  Teatru Ewolucji Cienia jest to spektakl dotykający problemu nakręcającej się spirali nienawiści\, ale i wskazujący niezwykle trudną ścieżkę rozwiązania konfliktów\, jaką jest oczyszczająca siła przebaczenia. Odwołując się do metafory\, sytuując akcję przedstawienia na osi człowiek – wilk\, artyści chcą pobudzić do zastanowienia się nad siłami rządzącymi naturą ludzką\, a jednocześnie chcą przestrzec przed obudzeniem wilka\, który drzemie w każdym z nas. „Czas Wilka” jest więc spektaklem widowiskowym\, pięknym w obrazie\, a zarazem przerażającym w treści\, bo dotykającym bolesnej prawdy o człowieku.\n\n\n\n„Morskie opowieści” to spektakl utrzymany w konwencji teatru ruchu\, o lekkiej formie z wyraźnymi odniesieniami do slapstiku rodem z niemego kina. Wspaniała atrakcja dla całych rodzin.\n\n\nPrzesłaniem spektaklu jest myśl\, iż ciągle czegoś szukamy nie dostrzegając\, że to\, co najcenniejsze jest tuż obok nas.\n\n\nJest to więc spektakl nie tylko o odwiecznym pragnieniu i poszukiwaniu przygód ale i o znalezieniu prawdziwego skarbu jakim jest przyjaźń.\n\n\nSpektakl podbija publiczność w kraju i za granicą – prezentowany był na Międzynarodowych Festiwalach Teatralnych dla Dzieci i Młodego Widza w Austrii i Palestynie.\n\nSpektakle prezentowane są w ramach projektu Teatr w Małym Mieście\, który jest dofinansowany ze środków Fundacji PZU oraz Samorządu Województwa Wielkopolskiego.\n\n\nProgram szczegółowy:\n16.00 – animacje dla dzieci\n16.50 – taniec „Ico Ico’ #razem dla pokoju\n17.00 Spektakl „Morskie opowieści”\n18.00 – animacje dla dzieci\n19.00 – Piotr Nowak Trio – koncert\n20.00 – recital Dariusza Starosty\n20.30 – Spektakl „Czas wilka”\n\nPark Sokoła w Buku\, 21 sierpnia\, wstęp wolny.
URL:https://buk.gmina.pl/wydarzenie/teatr-w-malym-miescie/
ATTACH;FMTTYPE=image/jpeg:https://buk.gmina.pl/wp-content/uploads/2022/08/Piknik-z-teatrem-08-2022.jpg
END:VEVENT
BEGIN:VEVENT
DTSTART;TZID=Europe/Warsaw:20220821T110000
DTEND;TZID=Europe/Warsaw:20220821T120000
DTSTAMP:20260421T110647
CREATED:20220811T104744Z
LAST-MODIFIED:20220811T104744Z
UID:7972-1661079600-1661083200@buk.gmina.pl
SUMMARY:Dożynki w Niepruszewie
DESCRIPTION:Msza św. dożynkowa odbędzie się w kościele parafialnym w Niepruszewie\, 21 sierpnia o godz. 11.00.
URL:https://buk.gmina.pl/wydarzenie/dozynki-w-niepruszewie/
ATTACH;FMTTYPE=image/jpeg:https://buk.gmina.pl/wp-content/uploads/2022/03/zboze.jpg
END:VEVENT
BEGIN:VEVENT
DTSTART;TZID=Europe/Warsaw:20220821T103000
DTEND;TZID=Europe/Warsaw:20220821T113000
DTSTAMP:20260421T110647
CREATED:20220811T105632Z
LAST-MODIFIED:20220811T105632Z
UID:7976-1661077800-1661081400@buk.gmina.pl
SUMMARY:Dożynki w sołectwie Pawłówko-Wiktorowo
DESCRIPTION:Msza św. dożynkowa odbędzie się 21 sierpnia w Sanktuarium w Buku o godz. 10:30.
URL:https://buk.gmina.pl/wydarzenie/dozynki-w-solectwie-pawlowko-wiktorowo/
ATTACH;FMTTYPE=image/jpeg:https://buk.gmina.pl/wp-content/uploads/2022/03/zboze.jpg
END:VEVENT
BEGIN:VEVENT
DTSTART;TZID=Europe/Warsaw:20220821T103000
DTEND;TZID=Europe/Warsaw:20220821T113000
DTSTAMP:20260421T110647
CREATED:20220811T105151Z
LAST-MODIFIED:20220811T105151Z
UID:7974-1661077800-1661081400@buk.gmina.pl
SUMMARY:Dożynki w Dakowach Suchych
DESCRIPTION:Msza św. dożynkowa odbędzie się w kościele pw. św. Katarzyny w Dakowach Mokrych\, 21 sierpnia o godz. 10:30. \n 
URL:https://buk.gmina.pl/wydarzenie/dozynki-w-dakowach-suchych/
ATTACH;FMTTYPE=image/jpeg:https://buk.gmina.pl/wp-content/uploads/2022/03/zboze.jpg
END:VEVENT
BEGIN:VEVENT
DTSTART;TZID=Europe/Warsaw:20220820T160000
DTEND;TZID=Europe/Warsaw:20220820T233000
DTSTAMP:20260421T110647
CREATED:20220803T122727Z
LAST-MODIFIED:20220803T122757Z
UID:7916-1661011200-1661038200@buk.gmina.pl
SUMMARY:Dobieżynki - dożynki wiejskie w Dobieżynie
DESCRIPTION:20 sierpnia\, godz. 16.00 \nWiejski Plac w Dobieżynie. \nOrganizator: Sołectwo Dobieżyn.
URL:https://buk.gmina.pl/wydarzenie/dobiezynki-dozynki-wiejskie-w-dobiezynie/
ATTACH;FMTTYPE=image/jpeg:https://buk.gmina.pl/wp-content/uploads/2022/03/zboze.jpg
END:VEVENT
BEGIN:VEVENT
DTSTART;TZID=Europe/Warsaw:20220820T140000
DTEND;TZID=Europe/Warsaw:20220820T233000
DTSTAMP:20260421T110647
CREATED:20220811T110314Z
LAST-MODIFIED:20220811T110314Z
UID:7978-1661004000-1661038200@buk.gmina.pl
SUMMARY:Dożynki sołectwa Dobra-Sznyfin
DESCRIPTION:Dożynkowy festyn rodzinny odbędzie się 20 sierpnia przy WDK w Dobrej. \nOd godz. 14.00 – animacje dla dzieci\, od 20.00 – zabawa dla mieszkańców. \nMsza dożynkowa sołectwa odbędzie się w Dakowach Mokrych 21 sierpnia o godz. 10:30.
URL:https://buk.gmina.pl/wydarzenie/dozynki-solectwa-dobra-sznyfin/
ATTACH;FMTTYPE=image/jpeg:https://buk.gmina.pl/wp-content/uploads/2022/03/zboze.jpg
END:VEVENT
BEGIN:VEVENT
DTSTART;VALUE=DATE:20220820
DTEND;VALUE=DATE:20220821
DTSTAMP:20260421T110647
CREATED:20220802T104954Z
LAST-MODIFIED:20220802T105243Z
UID:7892-1660953600-1661039999@buk.gmina.pl
SUMMARY:Przystanek Buk
DESCRIPTION:Nowy produkt turystyczny\, który pozwoli lepiej poznać nasze miasto. Wybierz się na wycieczkę z przewodnikiem ścieżką spacerową „Tajemnice starówki w Buku”\, weź udział w kreatywnych warsztatach i skorzystaj ze specjalnej oferty rabatowej! To wszystko w 2 dni – 20 i 28 sierpnia 2022 r.! Który termin wybierasz? Zaplanuj z nami aktywny weekend! Dasz się zaskoczyć?! \nDAJ SIĘ ZAPROSIĆ NA… \n\nSPACER Z PRZEWODNIKIEM – Tajemnice starówki w Buku \n– Czy w Buku żyją smoki?\n– Gdze szukać starego zegara?\n– Co łączy Buk z Grecją?\n– Gdzie „rosną” palmy?\n– Jakie tajemnice kryje powstańczy mural?\nTo wszystko (i wiele więcej) na nieoczywistym spacerze po mieście. \nDwa terminy do wyboru: \n\n20 sierpnia 2022 r. (sobota)\, w godz. 11:30-14:00\,\n28 sierpnia 2022 r. (niedziela)\, w godz. 15:00-17:00.\n\nZbiórka na placu St. Reszki – przed Kinem Wielkopolanin.\nUdział bezpłatny\, zapisy nie są wymagane. \nDodatkowo: Kościół św. Krzyża\, Izba Muzealna (pl. St. Reszki 29 – wejście od biblioteki) i ekspozycja archeologiczna w dawnej synagodze otwarte: 20 sierpnia w godz. 11-14 oraz 28 sierpnia w godz. 15-18. \n\nWARSZTATY \nPACHNĄCA BIŻUTERIA \nTo twórcze spotkanie z naturą w duchu ekologii\, pasji i zabawy. Wspólnie stworzymy naszyjniki i bransoletkę z kolorowej lawy wulkanicznej\, która sprawi\, że zapach olejków eterycznych zostanie z nami na dłużej. Więcej informacji – tutaj. \n20 sierpnia 2022 r. (sobota)\, w godz. 10:00-11:30 w Kawiarni Stopklatka (wejście przez Kino Wielkopolanin). \nKoszt: 50 zł / dla uczestników spoza MiG Buk\,\n30 zł / dla mieszkańców MiG Buk.\nZapisy: przystanekbuk@bibliotekabuk.pl.\nLiczba miejsc ograniczona\, decyduje kolejność zgłoszeń. \nKOSMETYKI Z BOTANIKI \nWspólnie stworzymy zestaw naturalnych kosmetyków: kawowo-kokosowy peeling do ciała\, botaniczne perfumy dla ciała i ducha oraz musujące kule do kąpieli. Każdy uczestnik wróci do domu z własnoręcznie wykonanymi kosmetykami i receptariuszem\, aby móc wrócić do przepisów z domowym zaciszu. Więcej informacji – tutaj. \n28 sierpnia 2022 r. (niedziela)\, w godz. 13:30-15:00 w Kawiarni Stopklatka (wejście przez Kino Wielkopolanin). \nKoszt: bezpłatne!\nZapisy: przystanekbuk@bibliotekabuk.pl.\nLiczba miejsc ograniczona\, decyduje kolejność zgłoszeń. \n\nMAŁE CO NIECO \nSpecjalnie dla Państwa przygotowaliśmy wyjątkową ofertę rabatową obowiązującą w dniach 20 i 28 sierpnia 2022 r. po okazaniu ulotki. W ulotce znajdują się szczegóły dot. oferowanych zniżek – nie zabrakło tam pysznych obiadów\, deserów\, lodów czy pamiątek z Buku! Pobierz ulotkę. \n\nODKRYWANIE TAJEMNIC – Zwiedzaj na własną rękę – questy po Buku \nQuesty – gra terenowa w poszukiwanie skarbów! Wędruj po mieście\, rozwiąż zagadki i znajdź skrzynię skarbów z tajemniczą pieczęcią! Świetna zabawa dla małych i dużych\, na wakacje i na cały rok! \nW Buku na ten moment mamy dwa questy (kliknij tytuł\, aby przejść do questa):\nOrzeł i Reszka w Buku\,\nPowstanie Wielkopolskie – Zapomnianym bohaterom\, cz. I. \n\nCOŚ NA PAMIĄTKĘ \nW Buku dostępne są Znaczki Turystyczne:\n– No. 259 Miasto i Gmina Buk – Legenda o drzewie bukowym i księciu Mieszku I\,\n– No. 260 Synagoga w Buku\,\n– No. 1165 Kościół świętego Krzyża w Buku.\nMiejsca sprzedaży znajdziesz na ulotce! \n\nZerknij również na Instagram: przystanekbuk \n\nPLIKI DO POBRANIA: \nUlotka Przystanek BUK
URL:https://buk.gmina.pl/wydarzenie/przystanek-buk/
ATTACH;FMTTYPE=image/png:https://buk.gmina.pl/wp-content/uploads/2022/08/Plakat-Przystanek-BUK.png
END:VEVENT
BEGIN:VEVENT
DTSTART;TZID=Europe/Warsaw:20220819T193000
DTEND;TZID=Europe/Warsaw:20220819T193000
DTSTAMP:20260421T110648
CREATED:20220708T121145Z
LAST-MODIFIED:20220708T121145Z
UID:7585-1660937400-1660937400@buk.gmina.pl
SUMMARY:Andre Rieu na ekranie Kina Wielkopolanin
DESCRIPTION:Gratka dla wielbicieli Maestro Andre Rieu! Już w sierpniu najnowszy koncert wirtuoza skrzypiec i jego orkiestry na ekranie Kina Wielkopolanin: \n\n19 sierpnia 2022\, godz. 19:30\,\n26 sierpnia 2022 godz.19:30\,\n2 września 2022 godz. 19:30.\n\nCena biletu: 35 zł. \n 
URL:https://buk.gmina.pl/wydarzenie/andre-rieu-na-ekranie-kina-wielkopolanin/
ATTACH;FMTTYPE=image/jpeg:https://buk.gmina.pl/wp-content/uploads/2022/07/20220819andrerieu.jpg
END:VEVENT
BEGIN:VEVENT
DTSTART;TZID=Europe/Warsaw:20220818T163000
DTEND;TZID=Europe/Warsaw:20220818T173000
DTSTAMP:20260421T110648
CREATED:20220623T073444Z
LAST-MODIFIED:20220623T073444Z
UID:7417-1660840200-1660843800@buk.gmina.pl
SUMMARY:Joga w Parku Sokoła
DESCRIPTION:Joga w Parku Sokoła – w każdy czwartek o godzinie 16:30.  \nJoga to bezpieczne i precyzyjnie opracowane ćwiczenia\, które wzmacniają i regenerują ciało\, poprawiają koncentrację\, relaksują i są pomocne przy problemach z kręgosłupem. Zajęcia dla każdego i w każdym wieku. Poziom zajęć dostosowany będzie do możliwości i potrzeb uczestników. \nProsimy o przyjście w wygodnym stroju do ćwiczeń oraz o przyniesienie swojej maty! \nZajęcia jogi będą odbywały się w okresie letnim – przez cały lipiec i sierpień. \nZAJĘCIA SĄ BEZPŁATNE!
URL:https://buk.gmina.pl/wydarzenie/joga-w-parku-sokola-9/
ATTACH;FMTTYPE=image/jpeg:https://buk.gmina.pl/wp-content/uploads/2022/06/Joga2022.jpg
END:VEVENT
BEGIN:VEVENT
DTSTART;TZID=Europe/Warsaw:20220817T080000
DTEND;TZID=Europe/Warsaw:20220819T170000
DTSTAMP:20260421T110648
CREATED:20220621T061224Z
LAST-MODIFIED:20220621T061224Z
UID:7336-1660723200-1660928400@buk.gmina.pl
SUMMARY:Warsztaty kreatywne dla dzieci
DESCRIPTION:Warsztaty kreatywne odbędą się w Miejsko-Gminnym Ośrodku Kultury w Buku. \nInformacje i zapisy: tel. 618 140 121. \n 
URL:https://buk.gmina.pl/wydarzenie/warsztaty-kreatywne-dla-dzieci-2/
ATTACH;FMTTYPE=image/jpeg:https://buk.gmina.pl/wp-content/uploads/2022/06/kreatywne.jpg
END:VEVENT
BEGIN:VEVENT
DTSTART;VALUE=DATE:20220816
DTEND;VALUE=DATE:20220817
DTSTAMP:20260421T110648
CREATED:20220621T061057Z
LAST-MODIFIED:20220621T061057Z
UID:7334-1660608000-1660694399@buk.gmina.pl
SUMMARY:Wyjazd do teatru w Poznaniu
DESCRIPTION:W ramach wakacyjnych zajęć dla dzieci\, Miejsko-Gminny Ośrodek Kultury w Buku organizuje wyjazd do teatru w Poznaniu. \nSzczegóły i zapisy: MGOK tel. 618 140 121
URL:https://buk.gmina.pl/wydarzenie/wyjazd-do-teatru-w-poznaniu-2/
ATTACH;FMTTYPE=image/jpeg:https://buk.gmina.pl/wp-content/uploads/2022/06/teatr.jpg
END:VEVENT
BEGIN:VEVENT
DTSTART;TZID=Europe/Warsaw:20220814T083000
DTEND;TZID=Europe/Warsaw:20220814T093000
DTSTAMP:20260421T110648
CREATED:20220811T104137Z
LAST-MODIFIED:20220811T104137Z
UID:7970-1660465800-1660469400@buk.gmina.pl
SUMMARY:Dożynki w Szewcach
DESCRIPTION:Msza św. dożynkowa odbędzie się w kaplicy o godz. 8.30. \n 
URL:https://buk.gmina.pl/wydarzenie/dozynki-w-szewcach/
ATTACH;FMTTYPE=image/jpeg:https://buk.gmina.pl/wp-content/uploads/2022/03/zboze.jpg
END:VEVENT
BEGIN:VEVENT
DTSTART;TZID=Europe/Warsaw:20220813T110000
DTEND;TZID=Europe/Warsaw:20220813T130000
DTSTAMP:20260421T110648
CREATED:20220809T112854Z
LAST-MODIFIED:20220809T112854Z
UID:7938-1660388400-1660395600@buk.gmina.pl
SUMMARY:Zabawy sportowe dla dzieci (Dakowy Suche)
DESCRIPTION:Sportowe zabawy dla dzieci na boisku przy WDK w Dakowach Suchych. \nWstęp wolny. \nSobota\, 13 sierpnia\, godz. 11.00.
URL:https://buk.gmina.pl/wydarzenie/zabawy-sportowe-dla-dzieci-dakowy-suche/
ATTACH;FMTTYPE=image/jpeg:https://buk.gmina.pl/wp-content/uploads/2022/08/Dakowy-Suche_13-sierpnia-zabawy-sportowe.jpg
END:VEVENT
BEGIN:VEVENT
DTSTART;VALUE=DATE:20220813
DTEND;VALUE=DATE:20220814
DTSTAMP:20260421T110648
CREATED:20220803T122527Z
LAST-MODIFIED:20220803T122527Z
UID:7913-1660348800-1660435199@buk.gmina.pl
SUMMARY:Zabawa taneczna w Szewcach
DESCRIPTION:Rozpoczęcie zabawy – godz. 18.00.\nOrganizator – Sołectwo Szewce.
URL:https://buk.gmina.pl/wydarzenie/zabawa-taneczna-w-szewcach/
ATTACH;FMTTYPE=image/jpeg:https://buk.gmina.pl/wp-content/uploads/2022/08/disco.jpg
END:VEVENT
BEGIN:VEVENT
DTSTART;TZID=Europe/Warsaw:20220811T163000
DTEND;TZID=Europe/Warsaw:20220811T173000
DTSTAMP:20260421T110648
CREATED:20220623T073414Z
LAST-MODIFIED:20220623T073414Z
UID:7415-1660235400-1660239000@buk.gmina.pl
SUMMARY:Joga w Parku Sokoła
DESCRIPTION:Joga w Parku Sokoła – w każdy czwartek o godzinie 16:30.  \nJoga to bezpieczne i precyzyjnie opracowane ćwiczenia\, które wzmacniają i regenerują ciało\, poprawiają koncentrację\, relaksują i są pomocne przy problemach z kręgosłupem. Zajęcia dla każdego i w każdym wieku. Poziom zajęć dostosowany będzie do możliwości i potrzeb uczestników. \nProsimy o przyjście w wygodnym stroju do ćwiczeń oraz o przyniesienie swojej maty! \nZajęcia jogi będą odbywały się w okresie letnim – przez cały lipiec i sierpień. \nZAJĘCIA SĄ BEZPŁATNE!
URL:https://buk.gmina.pl/wydarzenie/joga-w-parku-sokola-8/
ATTACH;FMTTYPE=image/jpeg:https://buk.gmina.pl/wp-content/uploads/2022/06/Joga2022.jpg
END:VEVENT
BEGIN:VEVENT
DTSTART;TZID=Europe/Warsaw:20220808T080000
DTEND;TZID=Europe/Warsaw:20220812T170000
DTSTAMP:20260421T110648
CREATED:20220621T060844Z
LAST-MODIFIED:20220621T060844Z
UID:7330-1659945600-1660323600@buk.gmina.pl
SUMMARY:Warsztaty kreatywne dla dzieci
DESCRIPTION:Warsztaty kreatywne „Wakacje pod żaglami”. \nOrganizator: Miejsko-Gminny Ośrodek Kultury w Buku \nInformacje; tel. 618 140 121 \n 
URL:https://buk.gmina.pl/wydarzenie/warsztaty-kreatywne-dla-dzieci/
ATTACH;FMTTYPE=image/jpeg:https://buk.gmina.pl/wp-content/uploads/2022/06/kreatywne-1.jpg
END:VEVENT
BEGIN:VEVENT
DTSTART;TZID=Europe/Warsaw:20220805T170000
DTEND;TZID=Europe/Warsaw:20220805T183000
DTSTAMP:20260421T110648
CREATED:20220801T062402Z
LAST-MODIFIED:20220801T062402Z
UID:7869-1659718800-1659724200@buk.gmina.pl
SUMMARY:Muzyczne brzmienie - koncert w Parku Sokoła
DESCRIPTION:Miejsko-Gminny Ośrodek Kultury zaprasza na koncert wieńczący warsztaty ukulele i wokalne. \nW wykonaniu uczestników będzie można usłyszeć przeboje z repertuaru Czerwonych Gitar. \nGoście specjalni: Ewelina Rajchel\, Piotr Kałużny\, prof. Śledź. \nPark Sokoła w Buku\, 5 sierpnia\, godz. 17.00.\nWstęp wolny. \n 
URL:https://buk.gmina.pl/wydarzenie/muzyczne-brzmienie-koncert-w-parku-sokola/
ATTACH;FMTTYPE=image/jpeg:https://buk.gmina.pl/wp-content/uploads/2022/08/czerwone-gitary-koncert-uczniow-5-08-2022.jpg
END:VEVENT
BEGIN:VEVENT
DTSTART;TZID=Europe/Warsaw:20220804T163000
DTEND;TZID=Europe/Warsaw:20220804T173000
DTSTAMP:20260421T110648
CREATED:20220623T073345Z
LAST-MODIFIED:20220623T073345Z
UID:7413-1659630600-1659634200@buk.gmina.pl
SUMMARY:Joga w Parku Sokoła
DESCRIPTION:Joga w Parku Sokoła – w każdy czwartek o godzinie 16:30.  \nJoga to bezpieczne i precyzyjnie opracowane ćwiczenia\, które wzmacniają i regenerują ciało\, poprawiają koncentrację\, relaksują i są pomocne przy problemach z kręgosłupem. Zajęcia dla każdego i w każdym wieku. Poziom zajęć dostosowany będzie do możliwości i potrzeb uczestników. \nProsimy o przyjście w wygodnym stroju do ćwiczeń oraz o przyniesienie swojej maty! \nZajęcia jogi będą odbywały się w okresie letnim – przez cały lipiec i sierpień. \nZAJĘCIA SĄ BEZPŁATNE!
URL:https://buk.gmina.pl/wydarzenie/joga-w-parku-sokola-7/
ATTACH;FMTTYPE=image/jpeg:https://buk.gmina.pl/wp-content/uploads/2022/06/Joga2022.jpg
END:VEVENT
BEGIN:VEVENT
DTSTART;VALUE=DATE:20220803
DTEND;VALUE=DATE:20220806
DTSTAMP:20260421T110648
CREATED:20220621T060130Z
LAST-MODIFIED:20220621T060130Z
UID:7327-1659484800-1659743999@buk.gmina.pl
SUMMARY:Warsztaty ukulele
DESCRIPTION:Warsztaty ukulele organizowane są przez Miejsko-Gminny Ośrodek Kultury w Buku. \nInformacje i zapisy: te. 618 140 121
URL:https://buk.gmina.pl/wydarzenie/warsztaty-ukulele/
ATTACH;FMTTYPE=image/jpeg:https://buk.gmina.pl/wp-content/uploads/2022/06/ukulele.jpg
END:VEVENT
BEGIN:VEVENT
DTSTART;VALUE=DATE:20220801
DTEND;VALUE=DATE:20220806
DTSTAMP:20260421T110648
CREATED:20220621T082037Z
LAST-MODIFIED:20220629T104953Z
UID:7362-1659312000-1659743999@buk.gmina.pl
SUMMARY:Wakacje 2022 z OSiR Buk
DESCRIPTION:Ośrodek Sportu i Rekreacji w Buku organizuje dla dzieci ze szkół podstawowych zajęcia na na kąpielisku Niepruszewo (zapewniając codzienny dojazd) według poniższego harmonogramu: \n01 sierpnia\, g. 10:00-12:30 – Zajęcia nad jeziorem (Kąpielisko Niepruszewo) \n02 sierpnia\, g. 9:00-12:30 – Wyjazd fakultatywny STACJA GRAWITACJA Park Trampolin (koszt 30 zł) \n03 sierpnia\, g. 10:00-12:30 – Zajęcia nad jeziorem (Kąpielisko Niepruszewo) \n04 sierpnia\, g. 9:00-13:30 – Wyjazd fakultatywny na KRĘGLE (koszt 20 zł) \n05 sierpnia\, g. 10:00-12:30 – Atrakcja niespodzianka (Kąpielisko Niepruszewo) \nZapisy pod nr tel. 782 986 615 lub 618 149 140. Zapisy na zajęcia w Niepruszewie oraz zapisy na wyjazd prowadzone są osobno. Preferujemy zapisy na cały tydzień\, tak aby uzbierała się grupa. Liczna miejsc ograniczona. Zajęcia na kąpielisku odbywają się pod okiem ratowników wodnych – zajęcia uzależnione od pogody. Transport (wyjazdy\, kąpielisko) zapewnia OSiR Buk. Więcej informacji: http://osir-buk.pl/kontakt.html
URL:https://buk.gmina.pl/wydarzenie/zajecia-dla-dzieci-na-kapielisku-niepruszewo-z-osir-buk/
ATTACH;FMTTYPE=image/png:https://buk.gmina.pl/wp-content/uploads/2022/06/OSiR-Wakacje-2021.png
END:VEVENT
BEGIN:VEVENT
DTSTART;VALUE=DATE:20220801
DTEND;VALUE=DATE:20220806
DTSTAMP:20260421T110648
CREATED:20220621T055925Z
LAST-MODIFIED:20220621T055925Z
UID:7324-1659312000-1659743999@buk.gmina.pl
SUMMARY:Warsztaty wokalne
DESCRIPTION:Jak co roku\, Miejsko-Gminny Ośrodek Kultury w Buku zaprasza na warsztaty wokalne pod okiem zawodowych muzyków. \nSzczegóły i zapisy: MGOK\, tel. 618 140 121 \n 
URL:https://buk.gmina.pl/wydarzenie/warsztaty-wokalne/
ATTACH;FMTTYPE=image/jpeg:https://buk.gmina.pl/wp-content/uploads/2022/06/wokalne.jpg
END:VEVENT
BEGIN:VEVENT
DTSTART;TZID=Europe/Warsaw:20220728T163000
DTEND;TZID=Europe/Warsaw:20220728T173000
DTSTAMP:20260421T110648
CREATED:20220623T073313Z
LAST-MODIFIED:20220623T073313Z
UID:7411-1659025800-1659029400@buk.gmina.pl
SUMMARY:Joga w Parku Sokoła
DESCRIPTION:Joga w Parku Sokoła – w każdy czwartek o godzinie 16:30.  \nJoga to bezpieczne i precyzyjnie opracowane ćwiczenia\, które wzmacniają i regenerują ciało\, poprawiają koncentrację\, relaksują i są pomocne przy problemach z kręgosłupem. Zajęcia dla każdego i w każdym wieku. Poziom zajęć dostosowany będzie do możliwości i potrzeb uczestników. \nProsimy o przyjście w wygodnym stroju do ćwiczeń oraz o przyniesienie swojej maty! \nZajęcia jogi będą odbywały się w okresie letnim – przez cały lipiec i sierpień. \nZAJĘCIA SĄ BEZPŁATNE!
URL:https://buk.gmina.pl/wydarzenie/joga-w-parku-sokola-4/
ATTACH;FMTTYPE=image/jpeg:https://buk.gmina.pl/wp-content/uploads/2022/06/Joga2022.jpg
END:VEVENT
BEGIN:VEVENT
DTSTART;VALUE=DATE:20220726
DTEND;VALUE=DATE:20220727
DTSTAMP:20260421T110648
CREATED:20220621T055429Z
LAST-MODIFIED:20220621T055429Z
UID:7321-1658793600-1658879999@buk.gmina.pl
SUMMARY:Wyjazd do teatru w Poznaniu
DESCRIPTION:W ramach wakacyjnych zajęć dla dzieci\, Miejsko-Gminny Ośrodek Kultury w Buku organizuje wyjazd do teatru w Poznaniu. \nSzczegóły i zapisy: MGOK tel 618 140 121
URL:https://buk.gmina.pl/wydarzenie/wyjazd-do-teatru-w-poznaniu/
ATTACH;FMTTYPE=image/jpeg:https://buk.gmina.pl/wp-content/uploads/2022/06/teatr.jpg
END:VEVENT
BEGIN:VEVENT
DTSTART;VALUE=DATE:20220725
DTEND;VALUE=DATE:20220730
DTSTAMP:20260421T110648
CREATED:20220621T071511Z
LAST-MODIFIED:20220629T105311Z
UID:7338-1658707200-1659139199@buk.gmina.pl
SUMMARY:Wakacje 2022 z OSiR Buk
DESCRIPTION:Ośrodek Sportu i Rekreacji w Buku w okresie wakacji organizuje dla dzieci ze szkół podstawowych zajęcia na Stadionie OSiR w Buku według poniższego harmonogramu: \n25 lipca\, g. 10:00-12:30 – Gry i zabawy ruchowe (Stadion Miejski w Buku) \n26 lipca\, g. 9:00-12:30 – Wyjazd fakultatywny JUMP ARENA RATAJE (koszt 30 zł) \n27 lipca\, g. 10:00-12:30 – Zajęcia sportowe (Stadion Miejski w Buku) \n28 lipca\, g. 9:00-14:30 – Wyjazd fakultatywny PIRACKI PARK ROZRYWKI Nenufar Club Kościan (koszt 40 zł) \n29 lipca\, g. 10:00-12:30 – Atrakcja niespodzianka \nZapisy pod nr tel. 782 986 615 lub 618 149 140. Zapisy na zajęcia stacjonarne w Buku oraz zapisy na wyjazd prowadzone są osobno. Preferujemy zapisy na cały tydzień\, tak aby uzbierała się grupa (zajęcia stacjonarne). Liczna miejsc ograniczona. Transport (wyjazdy) zapewnia OSiR Buk. Więcej informacji: http://osir-buk.pl/kontakt.html
URL:https://buk.gmina.pl/wydarzenie/wakacje-sportowe-z-osir-zajecia-dla-dzieci/
ATTACH;FMTTYPE=image/png:https://buk.gmina.pl/wp-content/uploads/2022/06/OSiR-Wakacje-2021.png
END:VEVENT
BEGIN:VEVENT
DTSTART;TZID=Europe/Warsaw:20220723T150000
DTEND;TZID=Europe/Warsaw:20220723T150000
DTSTAMP:20260421T110648
CREATED:20220704T084704Z
LAST-MODIFIED:20220722T084333Z
UID:7499-1658588400-1658588400@buk.gmina.pl
SUMMARY:Festyn Rodzinny w Kalwach
DESCRIPTION:Rada Sołecka wsi Kalwy zaprasza na Festyn Rodzinny\, który odbędzie się na placu przy Wiejskim Domu Kultury w Kalwach w godz. 15:00-2:00.
URL:https://buk.gmina.pl/wydarzenie/festyn-rodzinny-w-kalwach/
ATTACH;FMTTYPE=image/jpeg:https://buk.gmina.pl/wp-content/uploads/2022/07/kalwy-festyn-07-2022.jpg
END:VEVENT
BEGIN:VEVENT
DTSTART;TZID=Europe/Warsaw:20220721T163000
DTEND;TZID=Europe/Warsaw:20220721T173000
DTSTAMP:20260421T110648
CREATED:20220623T073242Z
LAST-MODIFIED:20220623T073242Z
UID:7409-1658421000-1658424600@buk.gmina.pl
SUMMARY:Joga w Parku Sokoła
DESCRIPTION:Joga w Parku Sokoła – w każdy czwartek o godzinie 16:30.  \nJoga to bezpieczne i precyzyjnie opracowane ćwiczenia\, które wzmacniają i regenerują ciało\, poprawiają koncentrację\, relaksują i są pomocne przy problemach z kręgosłupem. Zajęcia dla każdego i w każdym wieku. Poziom zajęć dostosowany będzie do możliwości i potrzeb uczestników. \nProsimy o przyjście w wygodnym stroju do ćwiczeń oraz o przyniesienie swojej maty! \nZajęcia jogi będą odbywały się w okresie letnim – przez cały lipiec i sierpień. \nZAJĘCIA SĄ BEZPŁATNE!
URL:https://buk.gmina.pl/wydarzenie/joga-w-parku-sokola-3/
ATTACH;FMTTYPE=image/jpeg:https://buk.gmina.pl/wp-content/uploads/2022/06/Joga2022.jpg
END:VEVENT
BEGIN:VEVENT
DTSTART;VALUE=DATE:20220721
DTEND;VALUE=DATE:20220722
DTSTAMP:20260421T110648
CREATED:20220621T055205Z
LAST-MODIFIED:20220623T060048Z
UID:7318-1658361600-1658447999@buk.gmina.pl
SUMMARY:Wycieczka do wrocławskiego ZOO
DESCRIPTION:Miejsko-Gminny Ośrodek Kultury w Buku organizuje wycieczkę autokarową do ZOO we Wrocławiu dla dzieci w wieku od 7 lat. \nInformacje i zapisy: MGOK 618 140 121. \nKoszt: 100 zł.
URL:https://buk.gmina.pl/wydarzenie/wycieczka-do-wroclawskiego-zoo/
ATTACH;FMTTYPE=image/jpeg:https://buk.gmina.pl/wp-content/uploads/2022/06/wycieczka-autokarowa-zoo-wroclaw.jpg
END:VEVENT
BEGIN:VEVENT
DTSTART;VALUE=DATE:20220718
DTEND;VALUE=DATE:20220721
DTSTAMP:20260421T110648
CREATED:20220621T054644Z
LAST-MODIFIED:20220621T054644Z
UID:7315-1658102400-1658361599@buk.gmina.pl
SUMMARY:Warsztaty z klockami LEGO
DESCRIPTION:Organizator: Miejsko-Gminny Ośrodek Kultury \nKoszt zajęć: 15 zł/dzień (płatne przy zapisach) \nZapisy: MGOK 618 140 121 \n 
URL:https://buk.gmina.pl/wydarzenie/warsztaty-z-klockami-lego/
ATTACH;FMTTYPE=image/jpeg:https://buk.gmina.pl/wp-content/uploads/2022/06/lego.jpg
END:VEVENT
BEGIN:VEVENT
DTSTART;TZID=Europe/Warsaw:20220714T163000
DTEND;TZID=Europe/Warsaw:20220714T173000
DTSTAMP:20260421T110648
CREATED:20220623T073205Z
LAST-MODIFIED:20220623T073205Z
UID:7407-1657816200-1657819800@buk.gmina.pl
SUMMARY:Joga w Parku Sokoła
DESCRIPTION:Joga w Parku Sokoła – w każdy czwartek o godzinie 16:30.  \nJoga to bezpieczne i precyzyjnie opracowane ćwiczenia\, które wzmacniają i regenerują ciało\, poprawiają koncentrację\, relaksują i są pomocne przy problemach z kręgosłupem. Zajęcia dla każdego i w każdym wieku. Poziom zajęć dostosowany będzie do możliwości i potrzeb uczestników. \nProsimy o przyjście w wygodnym stroju do ćwiczeń oraz o przyniesienie swojej maty! \nZajęcia jogi będą odbywały się w okresie letnim – przez cały lipiec i sierpień. \nZAJĘCIA SĄ BEZPŁATNE!
URL:https://buk.gmina.pl/wydarzenie/joga-w-parku-sokola-2/
ATTACH;FMTTYPE=image/jpeg:https://buk.gmina.pl/wp-content/uploads/2022/06/Joga2022.jpg
END:VEVENT
END:VCALENDAR