BEGIN:VCALENDAR
VERSION:2.0
PRODID:-//Miasto i Gmina Buk - ECPv6.15.20//NONSGML v1.0//EN
CALSCALE:GREGORIAN
METHOD:PUBLISH
X-WR-CALNAME:Miasto i Gmina Buk
X-ORIGINAL-URL:https://buk.gmina.pl
X-WR-CALDESC:Wydarzenia dla Miasto i Gmina Buk
REFRESH-INTERVAL;VALUE=DURATION:PT1H
X-Robots-Tag:noindex
X-PUBLISHED-TTL:PT1H
BEGIN:VTIMEZONE
TZID:Europe/Warsaw
BEGIN:DAYLIGHT
TZOFFSETFROM:+0100
TZOFFSETTO:+0200
TZNAME:CEST
DTSTART:20210328T010000
END:DAYLIGHT
BEGIN:STANDARD
TZOFFSETFROM:+0200
TZOFFSETTO:+0100
TZNAME:CET
DTSTART:20211031T010000
END:STANDARD
BEGIN:DAYLIGHT
TZOFFSETFROM:+0100
TZOFFSETTO:+0200
TZNAME:CEST
DTSTART:20220327T010000
END:DAYLIGHT
BEGIN:STANDARD
TZOFFSETFROM:+0200
TZOFFSETTO:+0100
TZNAME:CET
DTSTART:20221030T010000
END:STANDARD
BEGIN:DAYLIGHT
TZOFFSETFROM:+0100
TZOFFSETTO:+0200
TZNAME:CEST
DTSTART:20230326T010000
END:DAYLIGHT
BEGIN:STANDARD
TZOFFSETFROM:+0200
TZOFFSETTO:+0100
TZNAME:CET
DTSTART:20231029T010000
END:STANDARD
END:VTIMEZONE
BEGIN:VEVENT
DTSTART;TZID=Europe/Warsaw:20221104T150000
DTEND;TZID=Europe/Warsaw:20221104T170000
DTSTAMP:20260420T212908
CREATED:20221010T121014Z
LAST-MODIFIED:20221024T093719Z
UID:8965-1667574000-1667581200@buk.gmina.pl
SUMMARY:Spotkanie przy planszówkach - Dobieżyn
DESCRIPTION:Zapraszamy na cotygodniowe spotkania przy planszówkach w Filii Biblioteki Publicznej w Wiejskim Domu Kultury w Dobieżynie! Zgrajmy się – w każdy piątek w godz. 15:00-17:00!
URL:https://buk.gmina.pl/wydarzenie/spotkanie-przy-planszowkach-4/
ATTACH;FMTTYPE=image/png:https://buk.gmina.pl/wp-content/uploads/2022/10/Plakat-planszowki.png
END:VEVENT
BEGIN:VEVENT
DTSTART;TZID=Europe/Warsaw:20221031T163000
DTEND;TZID=Europe/Warsaw:20221031T190000
DTSTAMP:20260420T212908
CREATED:20221020T083339Z
LAST-MODIFIED:20221020T083339Z
UID:9226-1667233800-1667242800@buk.gmina.pl
SUMMARY:Korowód świętych
DESCRIPTION:Korowód świętych odbędzie się 31 października 2022 r. \nStart: godz. 16:30 – Sanktuarium Matki Bożej Bukowskiej Literackiej \nMeta: Sala Miejska – dawna synagoga. \nOrganizatorem wydarzenia jest Sanktuarium MB Bukowskiej Literackiej i Siostry Miłosierdzia
URL:https://buk.gmina.pl/wydarzenie/korowod-swietych/
ATTACH;FMTTYPE=image/png:https://buk.gmina.pl/wp-content/uploads/2022/10/20221031korowodswietych.png
END:VEVENT
BEGIN:VEVENT
DTSTART;TZID=Europe/Warsaw:20221030T160000
DTEND;TZID=Europe/Warsaw:20221030T170000
DTSTAMP:20260420T212908
CREATED:20221021T083018Z
LAST-MODIFIED:20221021T083018Z
UID:9263-1667145600-1667149200@buk.gmina.pl
SUMMARY:Koncert Orkiestry Kameralnej i Zespołu Kameralnego Amici Canti - "Msza Koronacyjna"
DESCRIPTION:30 październik 2022 r. o godz. 16:00 w Sanktuarium Matki Bożej Bukowskiej Literackiej w Buku odbędzie się koncert Orkiestry Kameralnej pod dyrekcją Aleksandra Grefa i Zespołu Kameralnego Amici Canti. \nW programie: \n\nWolfganh Amadeusz Mozart „Msza Koronacyjna” (KV317)\,\nLeszek Górka „Suita ku czci Matki Bożej Bukowskiej Literackiej” cz. 1.
URL:https://buk.gmina.pl/wydarzenie/koncert-orkiestry-kameralnej-i-zespolu-kameralnego-amici-canti-msza-koronacyjna/
ATTACH;FMTTYPE=image/jpeg:https://buk.gmina.pl/wp-content/uploads/2022/10/20221030amici.jpg
END:VEVENT
BEGIN:VEVENT
DTSTART;TZID=Europe/Warsaw:20221028T170000
DTEND;TZID=Europe/Warsaw:20221028T190000
DTSTAMP:20260420T212908
CREATED:20221024T092602Z
LAST-MODIFIED:20221024T092602Z
UID:9342-1666976400-1666983600@buk.gmina.pl
SUMMARY:Szyjemy powstańczą flagę w Dobieżynie
DESCRIPTION:Biblioteka i Kino Miasta i Gminy Buk zaprasza do wspólnego szycia kopii bukowskiej flagi z Powstania Wielkopolskiego z 1918 r. \n28 października 2022 r. (piątek)\, godz. 17:00\nFilia Biblioteczna w Dobieżynie (Wiejski Dom Kultury). \nOcalmy od zapomnienia lokalną historię i z dumą zawieśmy wspólnie wykonaną\, zwycięską chorągiew!
URL:https://buk.gmina.pl/wydarzenie/szyjemy-powstancza-flage-w-dobiezynie/
ATTACH;FMTTYPE=image/jpeg:https://buk.gmina.pl/wp-content/uploads/2022/10/20221028flaga.jpg
END:VEVENT
BEGIN:VEVENT
DTSTART;TZID=Europe/Warsaw:20221025T170000
DTEND;TZID=Europe/Warsaw:20221025T200000
DTSTAMP:20260420T212908
CREATED:20221021T064522Z
LAST-MODIFIED:20221021T064522Z
UID:9260-1666717200-1666728000@buk.gmina.pl
SUMMARY:XLVI sesja Rady Miasta i Gminy Buk
DESCRIPTION:Informuję mieszkańców\, że dnia 25 października 2022 r. o godz. 17:00 w Sali Miejskiej w Buku przy ul. Mury 5\, odbędzie się XLVI sesja Rady Miasta i Gminy Buk. \nTransmisja online z obrad będzie prowadzona w serwisie YouTube na kanale Rady MiG Buk. \nPrzewodniczący\nRady Miasta i Gminy Buk\n/-/ Piotr Goroński \nPorządek sesji: \nI. Sprawy organizacyjne.\n1) Otwarcie XLVI sesji Rady Miasta i Gminy oraz stwierdzenie prawomocności obrad.\n2) Przyjęcie protokołu z poprzedniej sesji z dnia 27 września 2022 r.\n3) Przedstawienie porządku obrad.\nII. Informacje. Sprawozdania.\n1) Sprawozdanie z działalności Burmistrza Miasta i Gminy Buk między sesjami.\nIII. Rozpatrzenie projektów uchwał.\n1) Miejscowy plan zagospodarowania przestrzennego terenu położonego w Buku przy\nul. Otuskiej.\n2) Miejscowy plan zagospodarowania przestrzennego terenów położonych w Wielkiej Wsi\nw sąsiedztwie rodzinnych ogródków działkowych przy ul. Św. Rocha.\n3) Przystąpienie do sporządzania miejscowego planu zagospodarowania przestrzennego terenu położonego w Wielkiej Wsi i Buku w rejonie ulic Łąkowej i Grodziskiej.\n4) Zmiana uchwały w sprawie przystąpienia do sporządzenia miejscowego planu zagospodarowania przestrzennego terenów położonych w Kalwach\, rejon ul. Brzozowej.\n5) Określenie wysokości stawek podatku od nieruchomości na rok 2023.\n6) Wprowadzenie zwolnień w podatku od nieruchomości w 2023 roku.\n7) Opłata targowa w roku 2023.\n8) Obniżenie średniej ceny skupu żyta przyjmowanej jako podstawa obliczenia podatku rolnego na rok 2023.\n9) Nadanie nazwy ulicy Stara Droga w Kalwach.\n10) Udzielenie dotacji celowej na dofinansowanie zadań służących ochronie zasobów wodnych na terenie Miasta i Gminy Buk\, polegających na budowie systemu do retencjonowania wód opadowych w miejscu ich powstania.\n11) Zmiana uchwały Nr V/22/2011 Rady Miasta i Gminy Buk z dnia 22 lutego 2011r. w sprawie określenia samorządowych jednostek budżetowych i źródeł dochodów gromadzonych\nna wydzielonym rachunku i ich przeznaczenia oraz sposobu i trybu sporządzania planów finansowych dochodów i wydatków nimi finansowanych\, dokonania zmian w tym planie oraz ich zatwierdzenie dla wydzielonych rachunków dochodów.\n12) Zmiana uchwały w sprawie udzielenia pomocy finansowej Województwu Wielkopolskiemu.\n13) Rozpatrzenie petycji.\n14) Zaciągnięcie pożyczki z Wojewódzkiego Funduszu Ochrony Środowiska i Gospodarki Wodnej w Poznaniu na realizację zadania „Budowa sieci kanalizacji sanitarnej w Niepruszewie – ul. Poznańska\, ul. Dębowa\, ul. Bukowa wraz z przykanalikami”\n15) Zaciągnięcie pożyczki z Wojewódzkiego Funduszu Ochrony Środowiska i Gospodarki Wodnej w Poznaniu na realizację zadania „Budowa kanalizacji sanitarnej wraz z infrastrukturą towarzyszącą w Dobieżynie II etap – ul. Jarzębinowa”.\n16) Zaciągnięcie pożyczki z Wojewódzkiego Funduszu Ochrony Środowiska i Gospodarki Wodnej w Poznaniu na realizację zadania „Budowa wraz z rozbudową sieci kanalizacji sanitarnej w Wielka Wieś – ul. Ks. Inf. T. Ratajczaka – etap II”.\n17) Zmiana uchwały Nr XXXVI/320/2021 Rady Miasta i Gminy Buk z dnia 28 grudnia 2021r. w sprawie budżetu Miasta i Gminy Buk na 2022 rok.\n18) Zmiana uchwały Nr XXXVI/319/2021 Rady Miasta i Gminy Buk z dnia 28 grudnia 2021r. w sprawie uchwalenia Wieloletniej Prognozy Finansowej Miasta i Gminy Buk na lata 2022-2036.\nIV. Interpelacje i zapytania.\nV. Oświadczenia radnych.\nVI. Wystąpienia osób nie będących radnymi.\nVII. Komunikaty.\nVIII. Zakończenie. \nPliki do pobrania: \nKlauzula ochr. danych osob.
URL:https://buk.gmina.pl/wydarzenie/xlvi-sesja-rady-miasta-i-gminy-buk/
ATTACH;FMTTYPE=image/jpeg:https://buk.gmina.pl/wp-content/uploads/2020/12/img-default.jpg
END:VEVENT
BEGIN:VEVENT
DTSTART;TZID=Europe/Warsaw:20221025T160000
DTEND;TZID=Europe/Warsaw:20221025T170000
DTSTAMP:20260420T212908
CREATED:20221021T091454Z
LAST-MODIFIED:20221021T091454Z
UID:9272-1666713600-1666717200@buk.gmina.pl
SUMMARY:Kawa z widokiem na książki
DESCRIPTION:Filia Biblioteki Publicznej w Niepruszewie (budynek Wiejskiego Domu Kultury) zaprasza na spotkanie przy kawie 25 października 2022 r. (wtorek) o godz. 16:00. \nSzczegóły na plakacie.
URL:https://buk.gmina.pl/wydarzenie/kawa-z-widokiem-na-ksiazki/
ATTACH;FMTTYPE=image/jpeg:https://buk.gmina.pl/wp-content/uploads/2022/10/Kawa-z-widokiem-na-ksiazki.jpg
END:VEVENT
BEGIN:VEVENT
DTSTART;TZID=Europe/Warsaw:20221025T160000
DTEND;TZID=Europe/Warsaw:20221025T170000
DTSTAMP:20260420T212908
CREATED:20221019T103747Z
LAST-MODIFIED:20221019T103747Z
UID:9200-1666713600-1666717200@buk.gmina.pl
SUMMARY:Jesienny liść
DESCRIPTION:Filia Biblioteczna w Dobieżynie zaprasza na biblioteczne spotkanie z szydełkiem „Jesienny liść”. Jeśli lubisz szydełkować i chcesz miło spędzić jesienne popołudnie zapraszamy 25 października 2022 r. (wtorek) o godz.16:00.
URL:https://buk.gmina.pl/wydarzenie/jesienny-lisc/
ATTACH;FMTTYPE=image/jpeg:https://buk.gmina.pl/wp-content/uploads/2022/10/20221025biblioteka.jpg
END:VEVENT
BEGIN:VEVENT
DTSTART;TZID=Europe/Warsaw:20221023T110000
DTEND;TZID=Europe/Warsaw:20221023T110000
DTSTAMP:20260420T212908
CREATED:20221012T093323Z
LAST-MODIFIED:20221012T093556Z
UID:9000-1666522800-1666522800@buk.gmina.pl
SUMMARY:Zawody spławikowe na zakończenie sezonu Smugi 2022
DESCRIPTION:Młodzieżowa Szkółka Wędkarska Buk organizuje Zawody spławikowe na zakończenie sezonu Smugi 2022. \nKiedy: 23 października 2022 r.\, godz. 11:00.\nGdzie: Staw Smugi \nWstęp do lat 14\, udział w wydarzeniu jest bezpłatny.
URL:https://buk.gmina.pl/wydarzenie/zawody-splawikowe-na-zakonczenie-sezonu-smugi-2022/
ATTACH;FMTTYPE=image/jpeg:https://buk.gmina.pl/wp-content/uploads/2022/10/20221023zawody-scaled.jpg
END:VEVENT
BEGIN:VEVENT
DTSTART;TZID=Europe/Warsaw:20221022T090000
DTEND;TZID=Europe/Warsaw:20221022T150000
DTSTAMP:20260420T212908
CREATED:20221020T095925Z
LAST-MODIFIED:20221020T110015Z
UID:9247-1666429200-1666450800@buk.gmina.pl
SUMMARY:Biała sobota
DESCRIPTION:Burmistrz Miasta i Gminy Buk wraz z Wielkopolskim Stowarzyszeniem Wolontariuszy Opieki Paliatywnej „Hospicjum Domowe” serdecznie zapraszają Mieszkańców Miasta i Gminy Buk! \nBiała sobota – 22.10.2022 w godz. 9:00-15:00 w Dziennym Domu Opieki Medycznej (Buk\, ul. Przykop 4). \nSzczegóły na plakacie.
URL:https://buk.gmina.pl/wydarzenie/biala-sobota/
ATTACH;FMTTYPE=image/png:https://buk.gmina.pl/wp-content/uploads/2022/10/20221022bialasobota.png
END:VEVENT
BEGIN:VEVENT
DTSTART;TZID=Europe/Warsaw:20221021T180000
DTEND;TZID=Europe/Warsaw:20221021T180000
DTSTAMP:20260420T212908
CREATED:20221007T125601Z
LAST-MODIFIED:20221007T125916Z
UID:8917-1666375200-1666375200@buk.gmina.pl
SUMMARY:nieBŁĘKITNA RAPSODIA w Kinie Wielkopolanin
DESCRIPTION:nieBŁĘKITNA RAPSODIA Piosenki George’a Gershwina w Kinie Wielkopolanin w Buku! 21 października 2022 r. (piątek)\, o godz. 18:00. \nBezpłatne wejściówki do odbioru w kasie Kina Wielkopolanin i w Miejsko-Gminnym Ośrodku Kultury w Buku.
URL:https://buk.gmina.pl/wydarzenie/nieblekitna-rapsodia-w-kinie-wielkopolanin/
ATTACH;FMTTYPE=image/png:https://buk.gmina.pl/wp-content/uploads/2022/10/20221021nieblekitnarapsodia.png
END:VEVENT
BEGIN:VEVENT
DTSTART;TZID=Europe/Warsaw:20221021T150000
DTEND;TZID=Europe/Warsaw:20221021T170000
DTSTAMP:20260420T212908
CREATED:20221010T120921Z
LAST-MODIFIED:20221024T093755Z
UID:8961-1666364400-1666371600@buk.gmina.pl
SUMMARY:Spotkanie przy planszówkach - Dobieżyn
DESCRIPTION:Zapraszamy na cotygodniowe spotkania przy planszówkach w Filii Biblioteki Publicznej w Wiejskim Domu Kultury w Dobieżynie! Zgrajmy się – w każdy piątek w godz. 15:00-17:00!
URL:https://buk.gmina.pl/wydarzenie/spotkanie-przy-planszowkach-2/
ATTACH;FMTTYPE=image/png:https://buk.gmina.pl/wp-content/uploads/2022/10/Plakat-planszowki.png
END:VEVENT
BEGIN:VEVENT
DTSTART;TZID=Europe/Warsaw:20221016T160000
DTEND;TZID=Europe/Warsaw:20221016T170000
DTSTAMP:20260420T212908
CREATED:20221011T072037Z
LAST-MODIFIED:20221011T072037Z
UID:8968-1665936000-1665939600@buk.gmina.pl
SUMMARY:Spektakl "Dobrze\, lepiej\, katastrofa"
DESCRIPTION:Mamy przyjemność zaprosić Państwa na spektakl „Dobrze\, lepiej\, katastrofa”\, który odbędzie się już w tą niedzielę\, 16 października\, o godzinie 16:00!\nWstęp wolny! Plac Przemysława w Buku\, a w przypadku niepogody Sala Miejska – dawna synagoga (ul. Mury 5). Do zobaczenia!
URL:https://buk.gmina.pl/wydarzenie/spektakl-dobrze-lepiej-katastrofa/
ATTACH;FMTTYPE=image/jpeg:https://buk.gmina.pl/wp-content/uploads/2022/10/Plakat_PRL_na_wesolo_A3_DRUK_ok-1-scaled.jpg
END:VEVENT
BEGIN:VEVENT
DTSTART;TZID=Europe/Warsaw:20221016T153000
DTEND;TZID=Europe/Warsaw:20221016T153000
DTSTAMP:20260420T212908
CREATED:20221013T094141Z
LAST-MODIFIED:20221013T094237Z
UID:9093-1665934200-1665934200@buk.gmina.pl
SUMMARY:Derbowe starcie w I lidze kobiet
DESCRIPTION:Zapraszamy na derby! Już 16 października w hali OSiR w Buku derbowe starcie w I lidze kobiet! Szczegóły na plakacie.
URL:https://buk.gmina.pl/wydarzenie/9093/
ATTACH;FMTTYPE=image/jpeg:https://buk.gmina.pl/wp-content/uploads/2022/10/20221016MECZ.jpg
END:VEVENT
BEGIN:VEVENT
DTSTART;TZID=Europe/Warsaw:20221015T100000
DTEND;TZID=Europe/Warsaw:20221015T220000
DTSTAMP:20260420T212908
CREATED:20220706T062027Z
LAST-MODIFIED:20221012T095200Z
UID:7548-1665828000-1665871200@buk.gmina.pl
SUMMARY:Archidiecezjalny Kongres Nadzwyczajnych Szafarzy Komunii Świętej
DESCRIPTION:Archidiecezjalny Kongres Nadzwyczajnych Szafarzy Komunii Świętej odbędzie się 15 października 2022 r. w Buku.
URL:https://buk.gmina.pl/wydarzenie/archidiecezjalny-kongres-nadzwyczajnych-szafarzy-komunii-swietej/
ATTACH;FMTTYPE=image/jpeg:https://buk.gmina.pl/wp-content/uploads/2020/12/img-default.jpg
END:VEVENT
BEGIN:VEVENT
DTSTART;TZID=Europe/Warsaw:20221015T093000
DTEND;TZID=Europe/Warsaw:20221015T093000
DTSTAMP:20260420T212908
CREATED:20221012T094724Z
LAST-MODIFIED:20221012T094751Z
UID:9003-1665826200-1665826200@buk.gmina.pl
SUMMARY:Bajkowe Czytanki
DESCRIPTION:Bajkowe Czytanki już w sobotę 15 października 2022 r. o godz. 9:30! \nKino Wielkopolanin serdecznie zaprasza dzieci na spotkanie dla małych kinomaniaków. W programie czytanie fragmentu książki oraz projekcja bajki. \nCena biletu 10 zł.
URL:https://buk.gmina.pl/wydarzenie/bajkowe-czytanki-2/
ATTACH;FMTTYPE=image/jpeg:https://buk.gmina.pl/wp-content/uploads/2022/10/20221015bajkoweczytanki.jpg
END:VEVENT
BEGIN:VEVENT
DTSTART;TZID=Europe/Warsaw:20221014T150000
DTEND;TZID=Europe/Warsaw:20221014T170000
DTSTAMP:20260420T212908
CREATED:20221010T120854Z
LAST-MODIFIED:20221024T093734Z
UID:8959-1665759600-1665766800@buk.gmina.pl
SUMMARY:Spotkanie przy planszówkach - Dobieżyn
DESCRIPTION:Zapraszamy na cotygodniowe spotkania przy planszówkach w Filii Biblioteki Publicznej w Wiejskim Domu Kultury w Dobieżynie! Zgrajmy się – w każdy piątek w godz. 15:00-17:00!
URL:https://buk.gmina.pl/wydarzenie/spotkanie-przy-planszowkach/
ATTACH;FMTTYPE=image/png:https://buk.gmina.pl/wp-content/uploads/2022/10/Plakat-planszowki.png
END:VEVENT
BEGIN:VEVENT
DTSTART;VALUE=DATE:20221003
DTEND;VALUE=DATE:20221008
DTSTAMP:20260420T212908
CREATED:20220912T160324Z
LAST-MODIFIED:20220914T123334Z
UID:8516-1664755200-1665187199@buk.gmina.pl
SUMMARY:Tydzień Seniora
DESCRIPTION:Serdecznie zapraszamy do udziału w Tygodniu Seniora\, który odbędzie się w terminie od 3 do 7 października 2022 r. Poniżej prezentujemy program: \nPONIEDZIAŁEK (3 PAŹDZIERNIKA)\n– 11:00 – Uroczyste otwarcie Tygodnia Seniora w Kinie Wielkopolanin\n– 11:15 – Seans filmowy „Każdy wie lepiej” (komedia polska)\n– 12:45 – Słodki poczęstunek\n– 15:00 i 16:45 – Warsztaty florystyczne (Sala Miejska w Buku – dawna synagoga) – obowiązują zapisy! \nWTOREK (4 PAŹDZIERNIKA) – Sala Miejska w Buku\n– 10:15 – Zdrowie zaczyna się od jelit (wykład)\n– 11:45 – Skóra głowy i włosy osób dojrzałych (wykład) + badanie skóry głowy przez trycholog (dla chętnych)\n– 13:15 – Pierwsza pomoc (wykład)\n– 15:15 – Funkcjonowanie seniora we współczesnym społeczeństwie (wykład) \nŚRODA (5 PAŹDZIERNIKA) – Sala Miejska w Buku\n– 11:00 – Spotkanie z podróżnikiem Danielem Kocujem\n– 13:00 – Smartfon – nie taki straszny\, jak wygląda (wykład) \nCZWARTEK (6 PAŹDZIERNIKA)\n– 8:30 – Wycieczka do winnicy k. Zielonej Góry oraz zwiedzanie Lubuskiego Centrum Winiarstwa – obowiązują zapisy! \nPIĄTEK (7 PAŹDZIERNIKA) – Sala Miejska w Buku\n– 17:00 – Klub Szyderców Bis – spektakl muzyczny „Czyj ten benefis?”\n– 18:30 – Słodki poczęstunek (tort) i zakończenie Tygodnia Seniora \nUdział w wydarzeniach jest bezpłatny. Organizator zastrzega sobie prawo do zmiany programu.\nZapisy na wybrane wydarzenia pod numerem: 663 425 453.
URL:https://buk.gmina.pl/wydarzenie/tydzien-seniora/
ATTACH;FMTTYPE=image/png:https://buk.gmina.pl/wp-content/uploads/2022/09/tydzienseniora2022.png
END:VEVENT
BEGIN:VEVENT
DTSTART;TZID=Europe/Warsaw:20220930T190000
DTEND;TZID=Europe/Warsaw:20220930T190000
DTSTAMP:20260420T212908
CREATED:20220913T134229Z
LAST-MODIFIED:20220913T134229Z
UID:8532-1664564400-1664564400@buk.gmina.pl
SUMMARY:Zebranie wiejskie - Wielka Wieś
DESCRIPTION:Zebranie wiejskie sołectwa Wielka Wieś odbędzie się 30 września 2022 r. o godz. 19:00 w Sali Miejskiej w Buku – dawnej synagodze.
URL:https://buk.gmina.pl/wydarzenie/zebranie-wiejskie-wielka-wies-3/
ATTACH;FMTTYPE=image/jpeg:https://buk.gmina.pl/wp-content/uploads/2022/03/zebrania-wiejskie-2022.jpg
END:VEVENT
BEGIN:VEVENT
DTSTART;TZID=Europe/Warsaw:20220929T190000
DTEND;TZID=Europe/Warsaw:20220929T190000
DTSTAMP:20260420T212908
CREATED:20220913T134512Z
LAST-MODIFIED:20220913T134512Z
UID:8538-1664478000-1664478000@buk.gmina.pl
SUMMARY:Zebranie wiejskie - Niepruszewo
DESCRIPTION:Zebranie wiejskie sołectwa Niepruszewo odbędzie się 29 września 2022 r. o godz. 19:00 w WDK.
URL:https://buk.gmina.pl/wydarzenie/zebranie-wiejskie-niepruszewo-3/
ATTACH;FMTTYPE=image/jpeg:https://buk.gmina.pl/wp-content/uploads/2022/03/zebrania-wiejskie-2022.jpg
END:VEVENT
BEGIN:VEVENT
DTSTART;TZID=Europe/Warsaw:20220929T180000
DTEND;TZID=Europe/Warsaw:20220929T180000
DTSTAMP:20260420T212908
CREATED:20220919T123706Z
LAST-MODIFIED:20220919T123706Z
UID:8591-1664474400-1664474400@buk.gmina.pl
SUMMARY:Zabierz mnie do operetki
DESCRIPTION:Zabierz mnie do operetki to koncert w wykonaniu Sokolniccy Duett\, który odbędzie się 29 września 2022 r. o godz. 18:00 w Kinie Wielkopolanin. \nWstęp wolny\, wejściówki do nabycia w MGOK (Buk\, ul. Dobieżyńska 27 w godz. 8-16) oraz w kasie Kina Wielkopolanin (Buk\, pl. Reszki 29).
URL:https://buk.gmina.pl/wydarzenie/zabierz-mnie-do-operetki/
ATTACH;FMTTYPE=image/jpeg:https://buk.gmina.pl/wp-content/uploads/2022/09/20220929operetka.jpg
END:VEVENT
BEGIN:VEVENT
DTSTART;TZID=Europe/Warsaw:20220928T180000
DTEND;TZID=Europe/Warsaw:20220928T180000
DTSTAMP:20260420T212908
CREATED:20220913T134427Z
LAST-MODIFIED:20220913T134427Z
UID:8536-1664388000-1664388000@buk.gmina.pl
SUMMARY:Zebranie wiejskie - Kalwy
DESCRIPTION:Zebranie wiejskie sołectwa Kalwy odbędzie się 28 września 2022 r. o godz. 18:00 w WDK.
URL:https://buk.gmina.pl/wydarzenie/zebranie-wiejskie-kalwy-3/
ATTACH;FMTTYPE=image/jpeg:https://buk.gmina.pl/wp-content/uploads/2022/03/zebrania-wiejskie-2022.jpg
END:VEVENT
BEGIN:VEVENT
DTSTART;TZID=Europe/Warsaw:20220925T130000
DTEND;TZID=Europe/Warsaw:20220925T130000
DTSTAMP:20260420T212908
CREATED:20220915T115808Z
LAST-MODIFIED:20220919T141058Z
UID:8570-1664110800-1664110800@buk.gmina.pl
SUMMARY:Gminne zawody sportowo-pożarnicze
DESCRIPTION:Gminne zawody sportowo-pożarnicze o puchar Burmistrza Miasta i Gminy Buk odbędą się w niedzielę 25 września na boisku w Otuszu. Początek o godz. 13:00. \nW zawodach wezmą udział wszystkie jednostki Ochotniczych Straży Pożarnych z terenu Gminy Buk\, tj. OSP Buk\, OSP Dakowy Suche\, OSP Dobieżyn\, OSP Niepruszewo\, OSP Otusz\, OSP Szewce. Druhowie wezmą udział w dwóch konkurencjach: sztafecie bojowej oraz ćwiczeniach bojowych na mokro. \nWstęp wolny!
URL:https://buk.gmina.pl/wydarzenie/gminne-zawody-sportowo-pozarnicze/
ATTACH;FMTTYPE=image/png:https://buk.gmina.pl/wp-content/uploads/2022/09/20220925zawodystraz.png
END:VEVENT
BEGIN:VEVENT
DTSTART;VALUE=DATE:20220924
DTEND;VALUE=DATE:20220925
DTSTAMP:20260420T212908
CREATED:20220920T064703Z
LAST-MODIFIED:20220920T064703Z
UID:8613-1663977600-1664063999@buk.gmina.pl
SUMMARY:Pożegnanie lata - Dakowy Suche
DESCRIPTION:Rada Sołecka zaprasza na festyn kończący wakacje\, który odbędzie się w sobotę 24 września 2022 r. w Dakowach Suchych (sala wiejska). Start festynu o godz. 13:00. Wcześniej\, o godz. 11:00 cotygodniowe zmagania sportowe dla małych gigantów. \nCo czeka na uczestników? \n\nciepłe napoje (kawa\, herbata)\,\nsłodkości\,\nzabawy animatorskie\,\nkiełbasa z grilla\,\nwata cukrowa\,\nbilard\,\nping pong.\n\nO godz. 19:00 potańcówka muzyczna.
URL:https://buk.gmina.pl/wydarzenie/pozegnanie-lata-dakowy-suche/
ATTACH;FMTTYPE=image/jpeg:https://buk.gmina.pl/wp-content/uploads/2022/09/20220924dakowy.jpg
END:VEVENT
BEGIN:VEVENT
DTSTART;VALUE=DATE:20220924
DTEND;VALUE=DATE:20220925
DTSTAMP:20260420T212908
CREATED:20220413T103757Z
LAST-MODIFIED:20220919T125728Z
UID:6472-1663977600-1664063999@buk.gmina.pl
SUMMARY:100-lecie MKS Partia Buk
DESCRIPTION:Uroczysta Gala 100-lecia Klubu MKS Patria Buk 1922-2022 pod honorowym patronatem Burmistrza Miasta i Gminy Buk Pawła Adama. \n24 września 2022 r. (sobota)\, godz. 17:00 – hala sportowa OSIR\, ul. Szarych Szeregów 10 \nod godz. 12:00 (przed galą) – wystawa klubowych zdjęć\, kronik\, pamiątek \nW programie: \n\nprezentacja nowego sztandaru Klubu\,\nwręczenie odznaczeń PZPN/WZPN oraz pamiątkowych wyróżnień\,\nnominacja nowych członków honorowych\,\npremiera klubowego filmu promocyjnego\,\nwystęp Katarzyny Starosty z zespołem.\n\nSerdecznie zapraszamy byłych zawodników\, działaczy\, sympatyków i kibiców. \nWstęp wolny!
URL:https://buk.gmina.pl/wydarzenie/100-lecie-mks-partia-buk/
ATTACH;FMTTYPE=image/png:https://buk.gmina.pl/wp-content/uploads/2022/04/20220924mkspatria.png
END:VEVENT
BEGIN:VEVENT
DTSTART;TZID=Europe/Warsaw:20220923T180000
DTEND;TZID=Europe/Warsaw:20220923T180000
DTSTAMP:20260420T212908
CREATED:20220913T134121Z
LAST-MODIFIED:20220913T134121Z
UID:8530-1663956000-1663956000@buk.gmina.pl
SUMMARY:Zebranie wiejskie - Otusz
DESCRIPTION:Zebranie wiejskie sołectwa Otusz odbędzie się 23 września 2022 r. o godz. 18:00 w WDK.
URL:https://buk.gmina.pl/wydarzenie/zebranie-wiejskie-otusz-3/
ATTACH;FMTTYPE=image/jpeg:https://buk.gmina.pl/wp-content/uploads/2022/03/zebrania-wiejskie-2022.jpg
END:VEVENT
BEGIN:VEVENT
DTSTART;TZID=Europe/Warsaw:20220923T160000
DTEND;TZID=Europe/Warsaw:20220923T160000
DTSTAMP:20260420T212908
CREATED:20220913T134028Z
LAST-MODIFIED:20220913T134028Z
UID:8528-1663948800-1663948800@buk.gmina.pl
SUMMARY:Zebranie wiejskie - Cieśle
DESCRIPTION:Zebranie wiejskie sołectwa Cieśle odbędzie się 23 września 2022 r. o godz. 16:00 w wiacie biesiadnej.
URL:https://buk.gmina.pl/wydarzenie/zebranie-wiejskie-ciesle-3/
ATTACH;FMTTYPE=image/jpeg:https://buk.gmina.pl/wp-content/uploads/2022/03/zebrania-wiejskie-2022.jpg
END:VEVENT
BEGIN:VEVENT
DTSTART;TZID=Europe/Warsaw:20220922T190000
DTEND;TZID=Europe/Warsaw:20220922T190000
DTSTAMP:20260420T212908
CREATED:20220913T133922Z
LAST-MODIFIED:20220913T133922Z
UID:8526-1663873200-1663873200@buk.gmina.pl
SUMMARY:Zebranie wiejskie - Szewce
DESCRIPTION:Zebranie wiejskie sołectwa Szewce odbędzie się 22 września 2022 r. o godz. 19:00 w OSP.
URL:https://buk.gmina.pl/wydarzenie/zebranie-wiejskie-szewce-3/
ATTACH;FMTTYPE=image/jpeg:https://buk.gmina.pl/wp-content/uploads/2022/03/zebrania-wiejskie-2022.jpg
END:VEVENT
BEGIN:VEVENT
DTSTART;TZID=Europe/Warsaw:20220919T200000
DTEND;TZID=Europe/Warsaw:20220919T200000
DTSTAMP:20260420T212908
CREATED:20220913T133734Z
LAST-MODIFIED:20220913T133734Z
UID:8522-1663617600-1663617600@buk.gmina.pl
SUMMARY:Zebranie wiejskie - Dobra - Sznyfin
DESCRIPTION:Zebranie wiejskie sołectwa Dobra – Sznyfin odbędzie się 19 września 2022 r. o godz. 20:00 w WDK.
URL:https://buk.gmina.pl/wydarzenie/zebranie-wiejskie-dobra-sznyfin-3/
ATTACH;FMTTYPE=image/jpeg:https://buk.gmina.pl/wp-content/uploads/2022/03/zebrania-wiejskie-2022.jpg
END:VEVENT
BEGIN:VEVENT
DTSTART;TZID=Europe/Warsaw:20220919T180000
DTEND;TZID=Europe/Warsaw:20220919T180000
DTSTAMP:20260420T212908
CREATED:20220913T133822Z
LAST-MODIFIED:20220913T133822Z
UID:8524-1663610400-1663610400@buk.gmina.pl
SUMMARY:Zebranie wiejskie - Dakowy Suche
DESCRIPTION:Zebranie wiejskie sołectwa Dakowy Suche odbędzie się 19 września 2022 r. o godz. 18:00 w WDK.
URL:https://buk.gmina.pl/wydarzenie/zebranie-wiejskie-dakowy-suche-3/
ATTACH;FMTTYPE=image/jpeg:https://buk.gmina.pl/wp-content/uploads/2022/03/zebrania-wiejskie-2022.jpg
END:VEVENT
BEGIN:VEVENT
DTSTART;TZID=Europe/Warsaw:20220918T140000
DTEND;TZID=Europe/Warsaw:20220918T140000
DTSTAMP:20260420T212908
CREATED:20220908T104128Z
LAST-MODIFIED:20220908T104128Z
UID:8482-1663509600-1663509600@buk.gmina.pl
SUMMARY:"Guliwer" w Kinie Wielkopolanin
DESCRIPTION:Nadchodzi gigantyczna animowana przygoda łącząca w sobie klasyczną opowieść o słynnym Guliwerze Jonathana Swifta oraz zupełnie nowy pomysł na jej przedstawienie\, którego autorem jest sam prezydent Ukrainy – Wołodymyr Zełenski. To on wpadł na pomysł opowieści\, w której Guliwer jest wzrostu zwykłego człowieka\, a swój sukces zawdzięcza wielkiej pewności siebie i determinacji. \n„Guliwer” na ekranie Wielkopolanina już od 16 września! Specjalny seans – wersja ukraińska – 18 września (niedziela) o godzinie 14:00!
URL:https://buk.gmina.pl/wydarzenie/guliwer-w-kinie-wielkopolanin/
ATTACH;FMTTYPE=image/jpeg:https://buk.gmina.pl/wp-content/uploads/2022/09/B1_GULIWER_UA_5a-scaled.jpg
END:VEVENT
END:VCALENDAR